{"text_format":"1","workbook":"xlsx","n_sheets":42,"sheets":["Startliste","1","2","3","4","5","6","7","8","9","10","11","12","13","14","15","16","17","18","19","20","21","22","23","24","25","26","27","28","29","30","31","32","33","34","35","36","37","38","39","40","Resultate"],"not_rendered":{"charts":0,"images":2,"macros":1,"external_links":0,"defined_names":1,"comments":0,"pivot_tables":0},"unopened":[],"bounds":{"document_bytes":16777216,"sheet_cells":100000,"rows_first":2000,"rows_last":500,"rows_between":2000,"halvings":0,"cell_chars":16384,"cell_head_chars":4096},"cells_cut":0,"cells_raw":0,"read":"whole","date_system":"1900"}

{"sheet":"Startliste","index":0,"n_rows":55,"n_cols":17,"rows_kept":55,"cut":false,"hidden":false,"merged":[[11,0,11,7],[4,2,4,7],[5,2,5,7],[6,2,6,7],[8,2,8,7],[9,2,9,7],[7,2,7,7]]}
[null,null,"Qualifikation",null,null,null,null,null,null,null,null,null,null,null,null,"f","a"]
[null,null,"Meisterschaft der Veteranen 2024"]
[]
[]
[null,"Sektion"]
[null,"Zuständig"]
[null,"Adresse"]
[null,"PLZ/Wohnort"]
[null,"Mail"]
[null,"Telefon"]
[]
["Ausgefüllte Datei zurücksenden an salvo.trapani@outlook.com\nTermin: Bis spätestens Sonntag, 9. Juni 2024"]
[null,null,"Startliste"]
[]
["Schütze-Nr.","Name","Vorname","Jahrgang","Sektion","Stlg.\nf\na\n",null,"Kat.\n",null,"Berechnung Alter"]
[1,null,null,null,null,null,null,{"$f":"IF(AND(J16>=55,J16<=69,F16=\"f\"),\"V f\",IF(AND(J16>=55,J16<=69,F16=\"a\"),\"V a\",IF(AND(J16>=70,F16=\"f\"),\"Ev f\",IF(AND(J16>=70,F16=\"a\"),\"Ev a\",0))))","v":0},null,{"$f":"(YEAR(NOW())-D16)","v":2024}]
[2,null,null,null,null,null,null,0,null,2024]
[3,null,null,null,null,null,null,0,null,2024]
[4,null,null,null,null,null,null,0,null,2024]
[5,null,null,null,null,null,null,0,null,2024]
[6,null,null,null,null,null,null,0,null,2024]
[7,null,null,null,null,null,null,0,null,2024]
[8,null,null,null,null,null,null,0,null,2024]
[9,null,null,null,null,null,null,0,null,2024]
[10,null,null,null,null,null,null,0,null,2024]
[11,null,null,null,null,null,null,0,null,2024]
[12,null,null,null,null,null,null,0,null,2024]
[13,null,null,null,null,null,null,0,null,2024]
[14,null,null,null,null,null,null,0,null,2024]
[15,null,null,null,null,null,null,0,null,2024]
[16,null,null,null,null,null,null,0,null,2024]
[17,null,null,null,null,null,null,0,null,2024]
[18,null,null,null,null,null,null,0,null,2024]
[19,null,null,null,null,null,null,0,null,2024]
[20,null,null,null,null,null,null,0,null,2024]
[21,null,null,null,null,null,null,0,null,2024]
[22,null,null,null,null,null,null,0,null,2024]
[23,null,null,null,null,null,null,0,null,2024]
[24,null,null,null,null,null,null,0,null,2024]
[25,null,null,null,null,null,null,0,null,2024]
[26,null,null,null,null,null,null,0,null,2024]
[27,null,null,null,null,null,null,0,null,2024]
[28,null,null,null,null,null,null,0,null,2024]
[29,null,null,null,null,null,null,0,null,2024]
[30,null,null,null,null,null,null,0,null,2024]
[31,null,null,null,null,null,null,0,null,2024]
[32,null,null,null,null,null,null,0,null,2024]
[33,null,null,null,null,null,null,0,null,2024]
[34,null,null,null,null,null,null,0,null,2024]
[35,null,null,null,null,null,null,0,null,2024]
[36,null,null,null,null,null,null,0,null,2024]
[37,null,null,null,null,null,null,0,null,2024]
[38,null,null,null,null,null,null,0,null,2024]
[39,null,null,null,null,null,null,0,null,2024]
[40,null,null,null,null,null,null,0,null,2024]

{"sheet":"1","index":1,"n_rows":16,"n_cols":25,"rows_kept":16,"cut":false,"hidden":false,"merged":[[4,11,4,12],[5,1,5,2]]}
[null,null,{"$f":"Startliste!C1","v":"Qualifikation"},null,null,null,null,null,null,null,null,null,{"$f":"Startliste!C2","v":"Meisterschaft der Veteranen 2024"}]
[null,null,{"$f":"Startliste!C4","v":0},null,null,null,null,null,null,null,null,null,null,null,null,null,null,null,null,null,null,1]
[]
[]
["Name",{"$f":"Startliste!B16","v":0},null,null,null,"Vorname",{"$f":"Startliste!C16","v":0},null,null,"St.",{"$f":"Startliste!F16","v":0},"Start-Nr."]
["Jahrgang",{"$f":"Startliste!D16","v":0},null,null,null,"Sektion",{"$f":"Startliste!E16","v":0},null,null,"Kat.",{"$f":"Startliste!H16","v":0},null,{"$f":"Startliste!A16","v":1}]
[]
[null,1,2,3,4,5,6,7,8,9,10,null,"Total"]
["1 - 10",null,null,null,null,null,null,null,null,null,null,null,{"$f":"SUM(B9:K9)+Y9","v":0},null,{"$f":"IF(B9=\"M\",10)","v":false},false,false,false,false,false,false,false,false,false,{"$f":"SUM(O9:X9)","v":0}]
["11 - 20",null,null,null,null,null,null,null,null,null,null,null,{"$f":"SUM(B10:K10)+Y10","v":0},null,{"$f":"IF(B10=\"M\",10)","v":false},false,false,false,false,false,false,false,false,false,{"$f":"SUM(O10:X10)","v":0}]
["21 - 30",null,null,null,null,null,null,null,null,null,null,null,{"$f":"SUM(B11:K11)+Y11","v":0},null,{"$f":"IF(B11=\"M\",10)","v":false},{"$f":"IF(C11=\"M\",10)","v":false},false,false,false,false,false,false,false,false,{"$f":"SUM(O11:X11)","v":0}]
["21 - 40",null,null,null,null,null,null,null,null,null,null,3,{"$f":"SUM(B12:K12)+Y12","v":0},null,{"$f":"IF(B12=\"M\",10)","v":false},{"$f":"IF(C12=\"M\",10)","v":false},{"$f":"IF(D12=\"M\",10)","v":false},{"$f":"IF(E12=\"M\",10)","v":false},{"$f":"IF(F12=\"M\",10)","v":false},{"$f":"IF(G12=\"M\",10)","v":false},{"$f":"IF(H12=\"M\",10)","v":false},{"$f":"IF(I12=\"M\",10)","v":false},{"$f":"IF(J12=\"M\",10)","v":false},{"$f":"IF(K12=\"M\",10)","v":false},{"$f":"SUM(O12:X12)","v":0}]
[null,null,null,null,null,null,null,null,null,null,"Resultat",null,{"$f":"SUM(M9:M12)","v":0}]
[]
["Wert",10,9,8,7,6,5,4,3,2,1,null,"M"]
["Anzahl",{"$f":"COUNTIF($B9:$K12,\"10\")+M16","v":0},{"$f":"COUNTIF($B9:$K12,\"9\")","v":0},{"$f":"COUNTIF($B9:$K12,\"8\")","v":0},{"$f":"COUNTIF($B9:$K12,\"7\")","v":0},{"$f":"COUNTIF($B9:$K12,\"6\")","v":0},{"$f":"COUNTIF($B9:$K12,\"5\")","v":0},{"$f":"COUNTIF($B9:$K12,\"4\")","v":0},{"$f":"COUNTIF($B9:$K12,\"3\")","v":0},{"$f":"COUNTIF($B9:$K12,\"2\")","v":0},{"$f":"COUNTIF($B9:$K12,\"1\")","v":0},null,{"$f":"COUNTIF($B9:$K12,\"M\")","v":0}]

{"sheet":"2","index":2,"n_rows":16,"n_cols":25,"rows_kept":16,"cut":false,"hidden":false,"merged":[[4,11,4,12],[5,1,5,2]]}
[null,null,{"$f":"Startliste!C1","v":"Qualifikation"},null,null,null,null,null,null,null,null,null,{"$f":"Startliste!C2","v":"Meisterschaft der Veteranen 2024"}]
[null,null,{"$f":"Startliste!C4","v":0},null,null,null,null,null,null,null,null,null,null,null,null,null,null,null,null,null,null,1]
[]
[]
["Name",{"$f":"Startliste!B17","v":0},null,null,null,"Vorname",{"$f":"Startliste!C17","v":0},null,null,"St.",{"$f":"Startliste!F17","v":0},"Start-Nr."]
["Jahrgang",{"$f":"Startliste!D17","v":0},null,null,null,"Sektion",{"$f":"Startliste!E17","v":0},null,null,"Kat.",{"$f":"Startliste!H17","v":0},null,{"$f":"Startliste!A17","v":2}]
[]
[null,1,2,3,4,5,6,7,8,9,10,null,"Total"]
["1 - 10",null,null,null,null,null,null,null,null,null,null,null,{"$f":"SUM(B9:K9)+Y9","v":0},null,{"$f":"IF(B9=\"M\",10)","v":false},{"$f":"IF(C9=\"M\",10)","v":false},false,false,false,false,false,false,false,false,{"$f":"SUM(O9:X9)","v":0}]
["11 - 20",null,null,null,null,null,null,null,null,null,null,null,{"$f":"SUM(B10:K10)+Y10","v":0},null,{"$f":"IF(B10=\"M\",10)","v":false},{"$f":"IF(C10=\"M\",10)","v":false},false,false,false,false,false,false,false,false,{"$f":"SUM(O10:X10)","v":0}]
["21 - 30",null,null,null,null,null,null,null,null,null,null,null,{"$f":"SUM(B11:K11)+Y11","v":0},null,{"$f":"IF(B11=\"M\",10)","v":false},{"$f":"IF(C11=\"M\",10)","v":false},false,false,false,false,false,false,false,false,{"$f":"SUM(O11:X11)","v":0}]
["21 - 40",null,null,null,null,null,null,null,null,null,null,8,{"$f":"SUM(B12:K12)+Y12","v":0},null,{"$f":"IF(B12=\"M\",10)","v":false},{"$f":"IF(C12=\"M\",10)","v":false},{"$f":"IF(D12=\"M\",10)","v":false},{"$f":"IF(E12=\"M\",10)","v":false},{"$f":"IF(F12=\"M\",10)","v":false},{"$f":"IF(G12=\"M\",10)","v":false},{"$f":"IF(H12=\"M\",10)","v":false},{"$f":"IF(I12=\"M\",10)","v":false},{"$f":"IF(J12=\"M\",10)","v":false},{"$f":"IF(K12=\"M\",10)","v":false},{"$f":"SUM(O12:X12)","v":0}]
[null,null,null,null,null,null,null,null,null,null,"Resultat",null,{"$f":"SUM(M9:M12)","v":0}]
[]
["Wert",10,9,8,7,6,5,4,3,2,1,null,"M"]
["Anzahl",{"$f":"COUNTIF($B9:$K12,\"10\")+M16","v":0},{"$f":"COUNTIF($B9:$K12,\"9\")","v":0},{"$f":"COUNTIF($B9:$K12,\"8\")","v":0},{"$f":"COUNTIF($B9:$K12,\"7\")","v":0},{"$f":"COUNTIF($B9:$K12,\"6\")","v":0},{"$f":"COUNTIF($B9:$K12,\"5\")","v":0},{"$f":"COUNTIF($B9:$K12,\"4\")","v":0},{"$f":"COUNTIF($B9:$K12,\"3\")","v":0},{"$f":"COUNTIF($B9:$K12,\"2\")","v":0},{"$f":"COUNTIF($B9:$K12,\"1\")","v":0},null,{"$f":"COUNTIF($B9:$K12,\"M\")","v":0}]

{"sheet":"3","index":3,"n_rows":16,"n_cols":25,"rows_kept":16,"cut":false,"hidden":false,"merged":[[4,11,4,12],[5,1,5,2]]}
[null,null,{"$f":"Startliste!C1","v":"Qualifikation"},null,null,null,null,null,null,null,null,null,{"$f":"Startliste!C2","v":"Meisterschaft der Veteranen 2024"}]
[null,null,{"$f":"Startliste!C4","v":0},null,null,null,null,null,null,null,null,null,null,null,null,null,null,null,null,null,null,1]
[]
[]
["Name",{"$f":"Startliste!B18","v":0},null,null,null,"Vorname",{"$f":"Startliste!C18","v":0},null,null,"St.",{"$f":"Startliste!F18","v":0},"Start-Nr."]
["Jahrgang",{"$f":"Startliste!D18","v":0},null,null,null,"Sektion",{"$f":"Startliste!E18","v":0},null,null,"Kat.",{"$f":"Startliste!H18","v":0},null,{"$f":"Startliste!A18","v":3}]
[]
[null,1,2,3,4,5,6,7,8,9,10,null,"Total"]
["1 - 10",null,null,null,null,null,null,null,null,null,null,null,{"$f":"SUM(B9:K9)+Y9","v":0},null,{"$f":"IF(B9=\"M\",10)","v":false},{"$f":"IF(C9=\"M\",10)","v":false},false,false,false,false,false,false,false,false,{"$f":"SUM(O9:X9)","v":0}]
["11 - 20",null,null,null,null,null,null,null,null,null,null,null,{"$f":"SUM(B10:K10)+Y10","v":0},null,{"$f":"IF(B10=\"M\",10)","v":false},{"$f":"IF(C10=\"M\",10)","v":false},false,false,false,false,false,false,false,false,{"$f":"SUM(O10:X10)","v":0}]
["21 - 30",null,null,null,null,null,null,null,null,null,null,null,{"$f":"SUM(B11:K11)+Y11","v":0},null,{"$f":"IF(B11=\"M\",10)","v":false},{"$f":"IF(C11=\"M\",10)","v":false},false,false,false,false,false,false,false,false,{"$f":"SUM(O11:X11)","v":0}]
["21 - 40",null,null,null,null,null,null,null,null,null,null,8,{"$f":"SUM(B12:K12)+Y12","v":0},null,{"$f":"IF(B12=\"M\",10)","v":false},{"$f":"IF(C12=\"M\",10)","v":false},{"$f":"IF(D12=\"M\",10)","v":false},{"$f":"IF(E12=\"M\",10)","v":false},{"$f":"IF(F12=\"M\",10)","v":false},{"$f":"IF(G12=\"M\",10)","v":false},{"$f":"IF(H12=\"M\",10)","v":false},{"$f":"IF(I12=\"M\",10)","v":false},{"$f":"IF(J12=\"M\",10)","v":false},{"$f":"IF(K12=\"M\",10)","v":false},{"$f":"SUM(O12:X12)","v":0}]
[null,null,null,null,null,null,null,null,null,null,"Resultat",null,{"$f":"SUM(M9:M12)","v":0}]
[]
["Wert",10,9,8,7,6,5,4,3,2,1,null,"M"]
["Anzahl",{"$f":"COUNTIF($B9:$K12,\"10\")+M16","v":0},{"$f":"COUNTIF($B9:$K12,\"9\")","v":0},{"$f":"COUNTIF($B9:$K12,\"8\")","v":0},{"$f":"COUNTIF($B9:$K12,\"7\")","v":0},{"$f":"COUNTIF($B9:$K12,\"6\")","v":0},{"$f":"COUNTIF($B9:$K12,\"5\")","v":0},{"$f":"COUNTIF($B9:$K12,\"4\")","v":0},{"$f":"COUNTIF($B9:$K12,\"3\")","v":0},{"$f":"COUNTIF($B9:$K12,\"2\")","v":0},{"$f":"COUNTIF($B9:$K12,\"1\")","v":0},null,{"$f":"COUNTIF($B9:$K12,\"M\")","v":0}]

{"sheet":"4","index":4,"n_rows":16,"n_cols":25,"rows_kept":16,"cut":false,"hidden":false,"merged":[[4,11,4,12],[5,1,5,2]]}
[null,null,{"$f":"Startliste!C1","v":"Qualifikation"},null,null,null,null,null,null,null,null,null,{"$f":"Startliste!C2","v":"Meisterschaft der Veteranen 2024"}]
[null,null,{"$f":"Startliste!C4","v":0},null,null,null,null,null,null,null,null,null,null,null,null,null,null,null,null,null,null,1]
[]
[]
["Name",{"$f":"Startliste!B19","v":0},null,null,null,"Vorname",{"$f":"Startliste!C19","v":0},null,null,"St.",{"$f":"Startliste!F19","v":0},"Start-Nr."]
["Jahrgang",{"$f":"Startliste!D19","v":0},null,null,null,"Sektion",{"$f":"Startliste!E19","v":0},null,null,"Kat.",{"$f":"Startliste!H19","v":0},null,{"$f":"Startliste!A19","v":4}]
[]
[null,1,2,3,4,5,6,7,8,9,10,null,"Total"]
["1 - 10",null,null,null,null,null,null,null,null,null,null,null,{"$f":"SUM(B9:K9)+Y9","v":0},null,{"$f":"IF(B9=\"M\",10)","v":false},{"$f":"IF(C9=\"M\",10)","v":false},false,false,false,false,false,false,false,false,{"$f":"SUM(O9:X9)","v":0}]
["11 - 20",null,null,null,null,null,null,null,null,null,null,null,{"$f":"SUM(B10:K10)+Y10","v":0},null,{"$f":"IF(B10=\"M\",10)","v":false},{"$f":"IF(C10=\"M\",10)","v":false},false,false,false,false,false,false,false,false,{"$f":"SUM(O10:X10)","v":0}]
["21 - 30",null,null,null,null,null,null,null,null,null,null,null,{"$f":"SUM(B11:K11)+Y11","v":0},null,{"$f":"IF(B11=\"M\",10)","v":false},{"$f":"IF(C11=\"M\",10)","v":false},false,false,false,false,false,false,false,false,{"$f":"SUM(O11:X11)","v":0}]
["21 - 40",null,null,null,null,null,null,null,null,null,null,8,{"$f":"SUM(B12:K12)+Y12","v":0},null,{"$f":"IF(B12=\"M\",10)","v":false},{"$f":"IF(C12=\"M\",10)","v":false},{"$f":"IF(D12=\"M\",10)","v":false},{"$f":"IF(E12=\"M\",10)","v":false},{"$f":"IF(F12=\"M\",10)","v":false},{"$f":"IF(G12=\"M\",10)","v":false},{"$f":"IF(H12=\"M\",10)","v":false},{"$f":"IF(I12=\"M\",10)","v":false},{"$f":"IF(J12=\"M\",10)","v":false},{"$f":"IF(K12=\"M\",10)","v":false},{"$f":"SUM(O12:X12)","v":0}]
[null,null,null,null,null,null,null,null,null,null,"Resultat",null,{"$f":"SUM(M9:M12)","v":0}]
[]
["Wert",10,9,8,7,6,5,4,3,2,1,null,"M"]
["Anzahl",{"$f":"COUNTIF($B9:$K12,\"10\")+M16","v":0},{"$f":"COUNTIF($B9:$K12,\"9\")","v":0},{"$f":"COUNTIF($B9:$K12,\"8\")","v":0},{"$f":"COUNTIF($B9:$K12,\"7\")","v":0},{"$f":"COUNTIF($B9:$K12,\"6\")","v":0},{"$f":"COUNTIF($B9:$K12,\"5\")","v":0},{"$f":"COUNTIF($B9:$K12,\"4\")","v":0},{"$f":"COUNTIF($B9:$K12,\"3\")","v":0},{"$f":"COUNTIF($B9:$K12,\"2\")","v":0},{"$f":"COUNTIF($B9:$K12,\"1\")","v":0},null,{"$f":"COUNTIF($B9:$K12,\"M\")","v":0}]

{"sheet":"5","index":5,"n_rows":16,"n_cols":25,"rows_kept":16,"cut":false,"hidden":false,"merged":[[4,11,4,12],[5,1,5,2]]}
[null,null,{"$f":"Startliste!C1","v":"Qualifikation"},null,null,null,null,null,null,null,null,null,{"$f":"Startliste!C2","v":"Meisterschaft der Veteranen 2024"}]
[null,null,{"$f":"Startliste!C4","v":0},null,null,null,null,null,null,null,null,null,null,null,null,null,null,null,null,null,null,1]
[]
[]
["Name",{"$f":"Startliste!B20","v":0},null,null,null,"Vorname",{"$f":"Startliste!C20","v":0},null,null,"St.",{"$f":"Startliste!F20","v":0},"Start-Nr."]
["Jahrgang",{"$f":"Startliste!D20","v":0},null,null,null,"Sektion",{"$f":"Startliste!E20","v":0},null,null,"Kat.",{"$f":"Startliste!H20","v":0},null,{"$f":"Startliste!A20","v":5}]
[]
[null,1,2,3,4,5,6,7,8,9,10,null,"Total"]
["1 - 10",null,null,null,null,null,null,null,null,null,null,null,{"$f":"SUM(B9:K9)+Y9","v":0},null,{"$f":"IF(B9=\"M\",10)","v":false},{"$f":"IF(C9=\"M\",10)","v":false},false,false,false,false,false,false,false,false,{"$f":"SUM(O9:X9)","v":0}]
["11 - 20",null,null,null,null,null,null,null,null,null,null,null,{"$f":"SUM(B10:K10)+Y10","v":0},null,{"$f":"IF(B10=\"M\",10)","v":false},{"$f":"IF(C10=\"M\",10)","v":false},false,false,false,false,false,false,false,false,{"$f":"SUM(O10:X10)","v":0}]
["21 - 30",null,null,null,null,null,null,null,null,null,null,null,{"$f":"SUM(B11:K11)+Y11","v":0},null,{"$f":"IF(B11=\"M\",10)","v":false},{"$f":"IF(C11=\"M\",10)","v":false},false,false,false,false,false,false,false,false,{"$f":"SUM(O11:X11)","v":0}]
["21 - 40",null,null,null,null,null,null,null,null,null,null,8,{"$f":"SUM(B12:K12)+Y12","v":0},null,{"$f":"IF(B12=\"M\",10)","v":false},{"$f":"IF(C12=\"M\",10)","v":false},{"$f":"IF(D12=\"M\",10)","v":false},{"$f":"IF(E12=\"M\",10)","v":false},{"$f":"IF(F12=\"M\",10)","v":false},{"$f":"IF(G12=\"M\",10)","v":false},{"$f":"IF(H12=\"M\",10)","v":false},{"$f":"IF(I12=\"M\",10)","v":false},{"$f":"IF(J12=\"M\",10)","v":false},{"$f":"IF(K12=\"M\",10)","v":false},{"$f":"SUM(O12:X12)","v":0}]
[null,null,null,null,null,null,null,null,null,null,"Resultat",null,{"$f":"SUM(M9:M12)","v":0}]
[]
["Wert",10,9,8,7,6,5,4,3,2,1,null,"M"]
["Anzahl",{"$f":"COUNTIF($B9:$K12,\"10\")+M16","v":0},{"$f":"COUNTIF($B9:$K12,\"9\")","v":0},{"$f":"COUNTIF($B9:$K12,\"8\")","v":0},{"$f":"COUNTIF($B9:$K12,\"7\")","v":0},{"$f":"COUNTIF($B9:$K12,\"6\")","v":0},{"$f":"COUNTIF($B9:$K12,\"5\")","v":0},{"$f":"COUNTIF($B9:$K12,\"4\")","v":0},{"$f":"COUNTIF($B9:$K12,\"3\")","v":0},{"$f":"COUNTIF($B9:$K12,\"2\")","v":0},{"$f":"COUNTIF($B9:$K12,\"1\")","v":0},null,{"$f":"COUNTIF($B9:$K12,\"M\")","v":0}]

{"sheet":"6","index":6,"n_rows":16,"n_cols":25,"rows_kept":16,"cut":false,"hidden":false,"merged":[[4,11,4,12],[5,1,5,2]]}
[null,null,{"$f":"Startliste!C1","v":"Qualifikation"},null,null,null,null,null,null,null,null,null,{"$f":"Startliste!C2","v":"Meisterschaft der Veteranen 2024"}]
[null,null,{"$f":"Startliste!C4","v":0},null,null,null,null,null,null,null,null,null,null,null,null,null,null,null,null,null,null,1]
[]
[]
["Name",{"$f":"Startliste!B21","v":0},null,null,null,"Vorname",{"$f":"Startliste!C21","v":0},null,null,"St.",{"$f":"Startliste!F21","v":0},"Start-Nr."]
["Jahrgang",{"$f":"Startliste!D21","v":0},null,null,null,"Sektion",{"$f":"Startliste!E21","v":0},null,null,"Kat.",{"$f":"Startliste!H21","v":0},null,{"$f":"Startliste!A21","v":6}]
[]
[null,1,2,3,4,5,6,7,8,9,10,null,"Total"]
["1 - 10",null,null,null,null,null,null,null,null,null,null,null,{"$f":"SUM(B9:K9)+Y9","v":0},null,{"$f":"IF(B9=\"M\",10)","v":false},{"$f":"IF(C9=\"M\",10)","v":false},false,false,false,false,false,false,false,false,{"$f":"SUM(O9:X9)","v":0}]
["11 - 20",null,null,null,null,null,null,null,null,null,null,null,{"$f":"SUM(B10:K10)+Y10","v":0},null,{"$f":"IF(B10=\"M\",10)","v":false},{"$f":"IF(C10=\"M\",10)","v":false},false,false,false,false,false,false,false,false,{"$f":"SUM(O10:X10)","v":0}]
["21 - 30",null,null,null,null,null,null,null,null,null,null,null,{"$f":"SUM(B11:K11)+Y11","v":0},null,{"$f":"IF(B11=\"M\",10)","v":false},{"$f":"IF(C11=\"M\",10)","v":false},false,false,false,false,false,false,false,false,{"$f":"SUM(O11:X11)","v":0}]
["21 - 40",null,null,null,null,null,null,null,null,null,null,8,{"$f":"SUM(B12:K12)+Y12","v":0},null,{"$f":"IF(B12=\"M\",10)","v":false},{"$f":"IF(C12=\"M\",10)","v":false},{"$f":"IF(D12=\"M\",10)","v":false},{"$f":"IF(E12=\"M\",10)","v":false},{"$f":"IF(F12=\"M\",10)","v":false},{"$f":"IF(G12=\"M\",10)","v":false},{"$f":"IF(H12=\"M\",10)","v":false},{"$f":"IF(I12=\"M\",10)","v":false},{"$f":"IF(J12=\"M\",10)","v":false},{"$f":"IF(K12=\"M\",10)","v":false},{"$f":"SUM(O12:X12)","v":0}]
[null,null,null,null,null,null,null,null,null,null,"Resultat",null,{"$f":"SUM(M9:M12)","v":0}]
[]
["Wert",10,9,8,7,6,5,4,3,2,1,null,"M"]
["Anzahl",{"$f":"COUNTIF($B9:$K12,\"10\")+M16","v":0},{"$f":"COUNTIF($B9:$K12,\"9\")","v":0},{"$f":"COUNTIF($B9:$K12,\"8\")","v":0},{"$f":"COUNTIF($B9:$K12,\"7\")","v":0},{"$f":"COUNTIF($B9:$K12,\"6\")","v":0},{"$f":"COUNTIF($B9:$K12,\"5\")","v":0},{"$f":"COUNTIF($B9:$K12,\"4\")","v":0},{"$f":"COUNTIF($B9:$K12,\"3\")","v":0},{"$f":"COUNTIF($B9:$K12,\"2\")","v":0},{"$f":"COUNTIF($B9:$K12,\"1\")","v":0},null,{"$f":"COUNTIF($B9:$K12,\"M\")","v":0}]

{"sheet":"7","index":7,"n_rows":16,"n_cols":25,"rows_kept":16,"cut":false,"hidden":false,"merged":[[4,11,4,12],[5,1,5,2]]}
[null,null,{"$f":"Startliste!C1","v":"Qualifikation"},null,null,null,null,null,null,null,null,null,{"$f":"Startliste!C2","v":"Meisterschaft der Veteranen 2024"}]
[null,null,{"$f":"Startliste!C4","v":0},null,null,null,null,null,null,null,null,null,null,null,null,null,null,null,null,null,null,1]
[]
[]
["Name",{"$f":"Startliste!B22","v":0},null,null,null,"Vorname",{"$f":"Startliste!C22","v":0},null,null,"St.",{"$f":"Startliste!F22","v":0},"Start-Nr."]
["Jahrgang",{"$f":"Startliste!D22","v":0},null,null,null,"Sektion",{"$f":"Startliste!E22","v":0},null,null,"Kat.",{"$f":"Startliste!H22","v":0},null,{"$f":"Startliste!A22","v":7}]
[]
[null,1,2,3,4,5,6,7,8,9,10,null,"Total"]
["1 - 10",null,null,null,null,null,null,null,null,null,null,null,{"$f":"SUM(B9:K9)+Y9","v":0},null,{"$f":"IF(B9=\"M\",10)","v":false},{"$f":"IF(C9=\"M\",10)","v":false},false,false,false,false,false,false,false,false,{"$f":"SUM(O9:X9)","v":0}]
["11 - 20",null,null,null,null,null,null,null,null,null,null,null,{"$f":"SUM(B10:K10)+Y10","v":0},null,{"$f":"IF(B10=\"M\",10)","v":false},{"$f":"IF(C10=\"M\",10)","v":false},false,false,false,false,false,false,false,false,{"$f":"SUM(O10:X10)","v":0}]
["21 - 30",null,null,null,null,null,null,null,null,null,null,null,{"$f":"SUM(B11:K11)+Y11","v":0},null,{"$f":"IF(B11=\"M\",10)","v":false},{"$f":"IF(C11=\"M\",10)","v":false},false,false,false,false,false,false,false,false,{"$f":"SUM(O11:X11)","v":0}]
["21 - 40",null,null,null,null,null,null,null,null,null,null,8,{"$f":"SUM(B12:K12)+Y12","v":0},null,{"$f":"IF(B12=\"M\",10)","v":false},{"$f":"IF(C12=\"M\",10)","v":false},{"$f":"IF(D12=\"M\",10)","v":false},{"$f":"IF(E12=\"M\",10)","v":false},{"$f":"IF(F12=\"M\",10)","v":false},{"$f":"IF(G12=\"M\",10)","v":false},{"$f":"IF(H12=\"M\",10)","v":false},{"$f":"IF(I12=\"M\",10)","v":false},{"$f":"IF(J12=\"M\",10)","v":false},{"$f":"IF(K12=\"M\",10)","v":false},{"$f":"SUM(O12:X12)","v":0}]
[null,null,null,null,null,null,null,null,null,null,"Resultat",null,{"$f":"SUM(M9:M12)","v":0}]
[]
["Wert",10,9,8,7,6,5,4,3,2,1,null,"M"]
["Anzahl",{"$f":"COUNTIF($B9:$K12,\"10\")+M16","v":0},{"$f":"COUNTIF($B9:$K12,\"9\")","v":0},{"$f":"COUNTIF($B9:$K12,\"8\")","v":0},{"$f":"COUNTIF($B9:$K12,\"7\")","v":0},{"$f":"COUNTIF($B9:$K12,\"6\")","v":0},{"$f":"COUNTIF($B9:$K12,\"5\")","v":0},{"$f":"COUNTIF($B9:$K12,\"4\")","v":0},{"$f":"COUNTIF($B9:$K12,\"3\")","v":0},{"$f":"COUNTIF($B9:$K12,\"2\")","v":0},{"$f":"COUNTIF($B9:$K12,\"1\")","v":0},null,{"$f":"COUNTIF($B9:$K12,\"M\")","v":0}]

{"sheet":"8","index":8,"n_rows":16,"n_cols":25,"rows_kept":16,"cut":false,"hidden":false,"merged":[[4,11,4,12],[5,1,5,2]]}
[null,null,{"$f":"Startliste!C1","v":"Qualifikation"},null,null,null,null,null,null,null,null,null,{"$f":"Startliste!C2","v":"Meisterschaft der Veteranen 2024"}]
[null,null,{"$f":"Startliste!C4","v":0},null,null,null,null,null,null,null,null,null,null,null,null,null,null,null,null,null,null,1]
[]
[]
["Name",{"$f":"Startliste!B23","v":0},null,null,null,"Vorname",{"$f":"Startliste!C23","v":0},null,null,"St.",{"$f":"Startliste!F23","v":0},"Start-Nr."]
["Jahrgang",{"$f":"Startliste!D23","v":0},null,null,null,"Sektion",{"$f":"Startliste!E23","v":0},null,null,"Kat.",{"$f":"Startliste!H23","v":0},null,{"$f":"Startliste!A23","v":8}]
[]
[null,1,2,3,4,5,6,7,8,9,10,null,"Total"]
["1 - 10",null,null,null,null,null,null,null,null,null,null,null,{"$f":"SUM(B9:K9)+Y9","v":0},null,{"$f":"IF(B9=\"M\",10)","v":false},{"$f":"IF(C9=\"M\",10)","v":false},false,false,false,false,false,false,false,false,{"$f":"SUM(O9:X9)","v":0}]
["11 - 20",null,null,null,null,null,null,null,null,null,null,null,{"$f":"SUM(B10:K10)+Y10","v":0},null,{"$f":"IF(B10=\"M\",10)","v":false},{"$f":"IF(C10=\"M\",10)","v":false},false,false,false,false,false,false,false,false,{"$f":"SUM(O10:X10)","v":0}]
["21 - 30",null,null,null,null,null,null,null,null,null,null,null,{"$f":"SUM(B11:K11)+Y11","v":0},null,{"$f":"IF(B11=\"M\",10)","v":false},{"$f":"IF(C11=\"M\",10)","v":false},false,false,false,false,false,false,false,false,{"$f":"SUM(O11:X11)","v":0}]
["21 - 40",null,null,null,null,null,null,null,null,null,null,8,{"$f":"SUM(B12:K12)+Y12","v":0},null,{"$f":"IF(B12=\"M\",10)","v":false},{"$f":"IF(C12=\"M\",10)","v":false},{"$f":"IF(D12=\"M\",10)","v":false},{"$f":"IF(E12=\"M\",10)","v":false},{"$f":"IF(F12=\"M\",10)","v":false},{"$f":"IF(G12=\"M\",10)","v":false},{"$f":"IF(H12=\"M\",10)","v":false},{"$f":"IF(I12=\"M\",10)","v":false},{"$f":"IF(J12=\"M\",10)","v":false},{"$f":"IF(K12=\"M\",10)","v":false},{"$f":"SUM(O12:X12)","v":0}]
[null,null,null,null,null,null,null,null,null,null,"Resultat",null,{"$f":"SUM(M9:M12)","v":0}]
[]
["Wert",10,9,8,7,6,5,4,3,2,1,null,"M"]
["Anzahl",{"$f":"COUNTIF($B9:$K12,\"10\")+M16","v":0},{"$f":"COUNTIF($B9:$K12,\"9\")","v":0},{"$f":"COUNTIF($B9:$K12,\"8\")","v":0},{"$f":"COUNTIF($B9:$K12,\"7\")","v":0},{"$f":"COUNTIF($B9:$K12,\"6\")","v":0},{"$f":"COUNTIF($B9:$K12,\"5\")","v":0},{"$f":"COUNTIF($B9:$K12,\"4\")","v":0},{"$f":"COUNTIF($B9:$K12,\"3\")","v":0},{"$f":"COUNTIF($B9:$K12,\"2\")","v":0},{"$f":"COUNTIF($B9:$K12,\"1\")","v":0},null,{"$f":"COUNTIF($B9:$K12,\"M\")","v":0}]

{"sheet":"9","index":9,"n_rows":16,"n_cols":25,"rows_kept":16,"cut":false,"hidden":false,"merged":[[4,11,4,12],[5,1,5,2]]}
[null,null,{"$f":"Startliste!C1","v":"Qualifikation"},null,null,null,null,null,null,null,null,null,{"$f":"Startliste!C2","v":"Meisterschaft der Veteranen 2024"}]
[null,null,{"$f":"Startliste!C4","v":0},null,null,null,null,null,null,null,null,null,null,null,null,null,null,null,null,null,null,1]
[]
[]
["Name",{"$f":"Startliste!B24","v":0},null,null,null,"Vorname",{"$f":"Startliste!C24","v":0},null,null,"St.",{"$f":"Startliste!F24","v":0},"Start-Nr."]
["Jahrgang",{"$f":"Startliste!D24","v":0},null,null,null,"Sektion",{"$f":"Startliste!E24","v":0},null,null,"Kat.",{"$f":"Startliste!H24","v":0},null,{"$f":"Startliste!A24","v":9}]
[]
[null,1,2,3,4,5,6,7,8,9,10,null,"Total"]
["1 - 10",null,null,null,null,null,null,null,null,null,null,null,{"$f":"SUM(B9:K9)+Y9","v":0},null,{"$f":"IF(B9=\"M\",10)","v":false},{"$f":"IF(C9=\"M\",10)","v":false},false,false,false,false,false,false,false,false,{"$f":"SUM(O9:X9)","v":0}]
["11 - 20",null,null,null,null,null,null,null,null,null,null,null,{"$f":"SUM(B10:K10)+Y10","v":0},null,{"$f":"IF(B10=\"M\",10)","v":false},{"$f":"IF(C10=\"M\",10)","v":false},false,false,false,false,false,false,false,false,{"$f":"SUM(O10:X10)","v":0}]
["21 - 30",null,null,null,null,null,null,null,null,null,null,null,{"$f":"SUM(B11:K11)+Y11","v":0},null,{"$f":"IF(B11=\"M\",10)","v":false},{"$f":"IF(C11=\"M\",10)","v":false},false,false,false,false,false,false,false,false,{"$f":"SUM(O11:X11)","v":0}]
["21 - 40",null,null,null,null,null,null,null,null,null,null,8,{"$f":"SUM(B12:K12)+Y12","v":0},null,{"$f":"IF(B12=\"M\",10)","v":false},{"$f":"IF(C12=\"M\",10)","v":false},{"$f":"IF(D12=\"M\",10)","v":false},{"$f":"IF(E12=\"M\",10)","v":false},{"$f":"IF(F12=\"M\",10)","v":false},{"$f":"IF(G12=\"M\",10)","v":false},{"$f":"IF(H12=\"M\",10)","v":false},{"$f":"IF(I12=\"M\",10)","v":false},{"$f":"IF(J12=\"M\",10)","v":false},{"$f":"IF(K12=\"M\",10)","v":false},{"$f":"SUM(O12:X12)","v":0}]
[null,null,null,null,null,null,null,null,null,null,"Resultat",null,{"$f":"SUM(M9:M12)","v":0}]
[]
["Wert",10,9,8,7,6,5,4,3,2,1,null,"M"]
["Anzahl",{"$f":"COUNTIF($B9:$K12,\"10\")+M16","v":0},{"$f":"COUNTIF($B9:$K12,\"9\")","v":0},{"$f":"COUNTIF($B9:$K12,\"8\")","v":0},{"$f":"COUNTIF($B9:$K12,\"7\")","v":0},{"$f":"COUNTIF($B9:$K12,\"6\")","v":0},{"$f":"COUNTIF($B9:$K12,\"5\")","v":0},{"$f":"COUNTIF($B9:$K12,\"4\")","v":0},{"$f":"COUNTIF($B9:$K12,\"3\")","v":0},{"$f":"COUNTIF($B9:$K12,\"2\")","v":0},{"$f":"COUNTIF($B9:$K12,\"1\")","v":0},null,{"$f":"COUNTIF($B9:$K12,\"M\")","v":0}]

{"sheet":"10","index":10,"n_rows":16,"n_cols":25,"rows_kept":16,"cut":false,"hidden":false,"merged":[[4,11,4,12],[5,1,5,2]]}
[null,null,{"$f":"Startliste!C1","v":"Qualifikation"},null,null,null,null,null,null,null,null,null,{"$f":"Startliste!C2","v":"Meisterschaft der Veteranen 2024"}]
[null,null,{"$f":"Startliste!C4","v":0},null,null,null,null,null,null,null,null,null,null,null,null,null,null,null,null,null,null,1]
[]
[]
["Name",{"$f":"Startliste!B25","v":0},null,null,null,"Vorname",{"$f":"Startliste!C25","v":0},null,null,"St.",{"$f":"Startliste!F25","v":0},"Start-Nr."]
["Jahrgang",{"$f":"Startliste!D25","v":0},null,null,null,"Sektion",{"$f":"Startliste!E25","v":0},null,null,"Kat.",{"$f":"Startliste!H25","v":0},null,{"$f":"Startliste!A25","v":10}]
[]
[null,1,2,3,4,5,6,7,8,9,10,null,"Total"]
["1 - 10",null,null,null,null,null,null,null,null,null,null,null,{"$f":"SUM(B9:K9)+Y9","v":0},null,{"$f":"IF(B9=\"M\",10)","v":false},{"$f":"IF(C9=\"M\",10)","v":false},false,false,false,false,false,false,false,false,{"$f":"SUM(O9:X9)","v":0}]
["11 - 20",null,null,null,null,null,null,null,null,null,null,null,{"$f":"SUM(B10:K10)+Y10","v":0},null,{"$f":"IF(B10=\"M\",10)","v":false},{"$f":"IF(C10=\"M\",10)","v":false},false,false,false,false,false,false,false,false,{"$f":"SUM(O10:X10)","v":0}]
["21 - 30",null,null,null,null,null,null,null,null,null,null,null,{"$f":"SUM(B11:K11)+Y11","v":0},null,{"$f":"IF(B11=\"M\",10)","v":false},{"$f":"IF(C11=\"M\",10)","v":false},false,false,false,false,false,false,false,false,{"$f":"SUM(O11:X11)","v":0}]
["21 - 40",null,null,null,null,null,null,null,null,null,null,8,{"$f":"SUM(B12:K12)+Y12","v":0},null,{"$f":"IF(B12=\"M\",10)","v":false},{"$f":"IF(C12=\"M\",10)","v":false},{"$f":"IF(D12=\"M\",10)","v":false},{"$f":"IF(E12=\"M\",10)","v":false},{"$f":"IF(F12=\"M\",10)","v":false},{"$f":"IF(G12=\"M\",10)","v":false},{"$f":"IF(H12=\"M\",10)","v":false},{"$f":"IF(I12=\"M\",10)","v":false},{"$f":"IF(J12=\"M\",10)","v":false},{"$f":"IF(K12=\"M\",10)","v":false},{"$f":"SUM(O12:X12)","v":0}]
[null,null,null,null,null,null,null,null,null,null,"Resultat",null,{"$f":"SUM(M9:M12)","v":0}]
[]
["Wert",10,9,8,7,6,5,4,3,2,1,null,"M"]
["Anzahl",{"$f":"COUNTIF($B9:$K12,\"10\")+M16","v":0},{"$f":"COUNTIF($B9:$K12,\"9\")","v":0},{"$f":"COUNTIF($B9:$K12,\"8\")","v":0},{"$f":"COUNTIF($B9:$K12,\"7\")","v":0},{"$f":"COUNTIF($B9:$K12,\"6\")","v":0},{"$f":"COUNTIF($B9:$K12,\"5\")","v":0},{"$f":"COUNTIF($B9:$K12,\"4\")","v":0},{"$f":"COUNTIF($B9:$K12,\"3\")","v":0},{"$f":"COUNTIF($B9:$K12,\"2\")","v":0},{"$f":"COUNTIF($B9:$K12,\"1\")","v":0},null,{"$f":"COUNTIF($B9:$K12,\"M\")","v":0}]

{"sheet":"11","index":11,"n_rows":16,"n_cols":25,"rows_kept":16,"cut":false,"hidden":false,"merged":[[4,11,4,12],[5,1,5,2]]}
[null,null,{"$f":"Startliste!C1","v":"Qualifikation"},null,null,null,null,null,null,null,null,null,{"$f":"Startliste!C2","v":"Meisterschaft der Veteranen 2024"}]
[null,null,{"$f":"Startliste!C4","v":0},null,null,null,null,null,null,null,null,null,null,null,null,null,null,null,null,null,null,1]
[]
[]
["Name",{"$f":"Startliste!B26","v":0},null,null,null,"Vorname",{"$f":"Startliste!C26","v":0},null,null,"St.",{"$f":"Startliste!F26","v":0},"Start-Nr."]
["Jahrgang",{"$f":"Startliste!D26","v":0},null,null,null,"Sektion",{"$f":"Startliste!E26","v":0},null,null,"Kat.",{"$f":"Startliste!H26","v":0},null,{"$f":"Startliste!A26","v":11}]
[]
[null,1,2,3,4,5,6,7,8,9,10,null,"Total"]
["1 - 10",null,null,null,null,null,null,null,null,null,null,null,{"$f":"SUM(B9:K9)+Y9","v":0},null,{"$f":"IF(B9=\"M\",10)","v":false},{"$f":"IF(C9=\"M\",10)","v":false},false,false,false,false,false,false,false,false,{"$f":"SUM(O9:X9)","v":0}]
["11 - 20",null,null,null,null,null,null,null,null,null,null,null,{"$f":"SUM(B10:K10)+Y10","v":0},null,{"$f":"IF(B10=\"M\",10)","v":false},{"$f":"IF(C10=\"M\",10)","v":false},false,false,false,false,false,false,false,false,{"$f":"SUM(O10:X10)","v":0}]
["21 - 30",null,null,null,null,null,null,null,null,null,null,null,{"$f":"SUM(B11:K11)+Y11","v":0},null,{"$f":"IF(B11=\"M\",10)","v":false},{"$f":"IF(C11=\"M\",10)","v":false},false,false,false,false,false,false,false,false,{"$f":"SUM(O11:X11)","v":0}]
["21 - 40",null,null,null,null,null,null,null,null,null,null,8,{"$f":"SUM(B12:K12)+Y12","v":0},null,{"$f":"IF(B12=\"M\",10)","v":false},{"$f":"IF(C12=\"M\",10)","v":false},{"$f":"IF(D12=\"M\",10)","v":false},{"$f":"IF(E12=\"M\",10)","v":false},{"$f":"IF(F12=\"M\",10)","v":false},{"$f":"IF(G12=\"M\",10)","v":false},{"$f":"IF(H12=\"M\",10)","v":false},{"$f":"IF(I12=\"M\",10)","v":false},{"$f":"IF(J12=\"M\",10)","v":false},{"$f":"IF(K12=\"M\",10)","v":false},{"$f":"SUM(O12:X12)","v":0}]
[null,null,null,null,null,null,null,null,null,null,"Resultat",null,{"$f":"SUM(M9:M12)","v":0}]
[]
["Wert",10,9,8,7,6,5,4,3,2,1,null,"M"]
["Anzahl",{"$f":"COUNTIF($B9:$K12,\"10\")+M16","v":0},{"$f":"COUNTIF($B9:$K12,\"9\")","v":0},{"$f":"COUNTIF($B9:$K12,\"8\")","v":0},{"$f":"COUNTIF($B9:$K12,\"7\")","v":0},{"$f":"COUNTIF($B9:$K12,\"6\")","v":0},{"$f":"COUNTIF($B9:$K12,\"5\")","v":0},{"$f":"COUNTIF($B9:$K12,\"4\")","v":0},{"$f":"COUNTIF($B9:$K12,\"3\")","v":0},{"$f":"COUNTIF($B9:$K12,\"2\")","v":0},{"$f":"COUNTIF($B9:$K12,\"1\")","v":0},null,{"$f":"COUNTIF($B9:$K12,\"M\")","v":0}]

{"sheet":"12","index":12,"n_rows":16,"n_cols":25,"rows_kept":16,"cut":false,"hidden":false,"merged":[[4,11,4,12],[5,1,5,2]]}
[null,null,{"$f":"Startliste!C1","v":"Qualifikation"},null,null,null,null,null,null,null,null,null,{"$f":"Startliste!C2","v":"Meisterschaft der Veteranen 2024"}]
[null,null,{"$f":"Startliste!C4","v":0},null,null,null,null,null,null,null,null,null,null,null,null,null,null,null,null,null,null,1]
[]
[]
["Name",{"$f":"Startliste!B27","v":0},null,null,null,"Vorname",{"$f":"Startliste!C27","v":0},null,null,"St.",{"$f":"Startliste!F27","v":0},"Start-Nr."]
["Jahrgang",{"$f":"Startliste!D27","v":0},null,null,null,"Sektion",{"$f":"Startliste!E27","v":0},null,null,"Kat.",{"$f":"Startliste!H27","v":0},null,{"$f":"Startliste!A27","v":12}]
[]
[null,1,2,3,4,5,6,7,8,9,10,null,"Total"]
["1 - 10",null,null,null,null,null,null,null,null,null,null,null,{"$f":"SUM(B9:K9)+Y9","v":0},null,{"$f":"IF(B9=\"M\",10)","v":false},{"$f":"IF(C9=\"M\",10)","v":false},false,false,false,false,false,false,false,false,{"$f":"SUM(O9:X9)","v":0}]
["11 - 20",null,null,null,null,null,null,null,null,null,null,null,{"$f":"SUM(B10:K10)+Y10","v":0},null,{"$f":"IF(B10=\"M\",10)","v":false},{"$f":"IF(C10=\"M\",10)","v":false},false,false,false,false,false,false,false,false,{"$f":"SUM(O10:X10)","v":0}]
["21 - 30",null,null,null,null,null,null,null,null,null,null,null,{"$f":"SUM(B11:K11)+Y11","v":0},null,{"$f":"IF(B11=\"M\",10)","v":false},{"$f":"IF(C11=\"M\",10)","v":false},false,false,false,false,false,false,false,false,{"$f":"SUM(O11:X11)","v":0}]
["21 - 40",null,null,null,null,null,null,null,null,null,null,8,{"$f":"SUM(B12:K12)+Y12","v":0},null,{"$f":"IF(B12=\"M\",10)","v":false},{"$f":"IF(C12=\"M\",10)","v":false},{"$f":"IF(D12=\"M\",10)","v":false},{"$f":"IF(E12=\"M\",10)","v":false},{"$f":"IF(F12=\"M\",10)","v":false},{"$f":"IF(G12=\"M\",10)","v":false},{"$f":"IF(H12=\"M\",10)","v":false},{"$f":"IF(I12=\"M\",10)","v":false},{"$f":"IF(J12=\"M\",10)","v":false},{"$f":"IF(K12=\"M\",10)","v":false},{"$f":"SUM(O12:X12)","v":0}]
[null,null,null,null,null,null,null,null,null,null,"Resultat",null,{"$f":"SUM(M9:M12)","v":0}]
[]
["Wert",10,9,8,7,6,5,4,3,2,1,null,"M"]
["Anzahl",{"$f":"COUNTIF($B9:$K12,\"10\")+M16","v":0},{"$f":"COUNTIF($B9:$K12,\"9\")","v":0},{"$f":"COUNTIF($B9:$K12,\"8\")","v":0},{"$f":"COUNTIF($B9:$K12,\"7\")","v":0},{"$f":"COUNTIF($B9:$K12,\"6\")","v":0},{"$f":"COUNTIF($B9:$K12,\"5\")","v":0},{"$f":"COUNTIF($B9:$K12,\"4\")","v":0},{"$f":"COUNTIF($B9:$K12,\"3\")","v":0},{"$f":"COUNTIF($B9:$K12,\"2\")","v":0},{"$f":"COUNTIF($B9:$K12,\"1\")","v":0},null,{"$f":"COUNTIF($B9:$K12,\"M\")","v":0}]

{"sheet":"13","index":13,"n_rows":16,"n_cols":25,"rows_kept":16,"cut":false,"hidden":false,"merged":[[4,11,4,12],[5,1,5,2]]}
[null,null,{"$f":"Startliste!C1","v":"Qualifikation"},null,null,null,null,null,null,null,null,null,{"$f":"Startliste!C2","v":"Meisterschaft der Veteranen 2024"}]
[null,null,{"$f":"Startliste!C4","v":0},null,null,null,null,null,null,null,null,null,null,null,null,null,null,null,null,null,null,1]
[]
[]
["Name",{"$f":"Startliste!B28","v":0},null,null,null,"Vorname",{"$f":"Startliste!C28","v":0},null,null,"St.",{"$f":"Startliste!F28","v":0},"Start-Nr."]
["Jahrgang",{"$f":"Startliste!D28","v":0},null,null,null,"Sektion",{"$f":"Startliste!E28","v":0},null,null,"Kat.",{"$f":"Startliste!H28","v":0},null,{"$f":"Startliste!A28","v":13}]
[]
[null,1,2,3,4,5,6,7,8,9,10,null,"Total"]
["1 - 10",null,null,null,null,null,null,null,null,null,null,null,{"$f":"SUM(B9:K9)+Y9","v":0},null,{"$f":"IF(B9=\"M\",10)","v":false},{"$f":"IF(C9=\"M\",10)","v":false},false,false,false,false,false,false,false,false,{"$f":"SUM(O9:X9)","v":0}]
["11 - 20",null,null,null,null,null,null,null,null,null,null,null,{"$f":"SUM(B10:K10)+Y10","v":0},null,{"$f":"IF(B10=\"M\",10)","v":false},{"$f":"IF(C10=\"M\",10)","v":false},false,false,false,false,false,false,false,false,{"$f":"SUM(O10:X10)","v":0}]
["21 - 30",null,null,null,null,null,null,null,null,null,null,null,{"$f":"SUM(B11:K11)+Y11","v":0},null,{"$f":"IF(B11=\"M\",10)","v":false},{"$f":"IF(C11=\"M\",10)","v":false},false,false,false,false,false,false,false,false,{"$f":"SUM(O11:X11)","v":0}]
["21 - 40",null,null,null,null,null,null,null,null,null,null,8,{"$f":"SUM(B12:K12)+Y12","v":0},null,{"$f":"IF(B12=\"M\",10)","v":false},{"$f":"IF(C12=\"M\",10)","v":false},{"$f":"IF(D12=\"M\",10)","v":false},{"$f":"IF(E12=\"M\",10)","v":false},{"$f":"IF(F12=\"M\",10)","v":false},{"$f":"IF(G12=\"M\",10)","v":false},{"$f":"IF(H12=\"M\",10)","v":false},{"$f":"IF(I12=\"M\",10)","v":false},{"$f":"IF(J12=\"M\",10)","v":false},{"$f":"IF(K12=\"M\",10)","v":false},{"$f":"SUM(O12:X12)","v":0}]
[null,null,null,null,null,null,null,null,null,null,"Resultat",null,{"$f":"SUM(M9:M12)","v":0}]
[]
["Wert",10,9,8,7,6,5,4,3,2,1,null,"M"]
["Anzahl",{"$f":"COUNTIF($B9:$K12,\"10\")+M16","v":0},{"$f":"COUNTIF($B9:$K12,\"9\")","v":0},{"$f":"COUNTIF($B9:$K12,\"8\")","v":0},{"$f":"COUNTIF($B9:$K12,\"7\")","v":0},{"$f":"COUNTIF($B9:$K12,\"6\")","v":0},{"$f":"COUNTIF($B9:$K12,\"5\")","v":0},{"$f":"COUNTIF($B9:$K12,\"4\")","v":0},{"$f":"COUNTIF($B9:$K12,\"3\")","v":0},{"$f":"COUNTIF($B9:$K12,\"2\")","v":0},{"$f":"COUNTIF($B9:$K12,\"1\")","v":0},null,{"$f":"COUNTIF($B9:$K12,\"M\")","v":0}]

{"sheet":"14","index":14,"n_rows":16,"n_cols":25,"rows_kept":16,"cut":false,"hidden":false,"merged":[[4,11,4,12],[5,1,5,2]]}
[null,null,{"$f":"Startliste!C1","v":"Qualifikation"},null,null,null,null,null,null,null,null,null,{"$f":"Startliste!C2","v":"Meisterschaft der Veteranen 2024"}]
[null,null,{"$f":"Startliste!C4","v":0},null,null,null,null,null,null,null,null,null,null,null,null,null,null,null,null,null,null,1]
[]
[]
["Name",{"$f":"Startliste!B29","v":0},null,null,null,"Vorname",{"$f":"Startliste!C29","v":0},null,null,"St.",{"$f":"Startliste!F29","v":0},"Start-Nr."]
["Jahrgang",{"$f":"Startliste!D29","v":0},null,null,null,"Sektion",{"$f":"Startliste!E29","v":0},null,null,"Kat.",{"$f":"Startliste!H29","v":0},null,{"$f":"Startliste!A29","v":14}]
[]
[null,1,2,3,4,5,6,7,8,9,10,null,"Total"]
["1 - 10",null,null,null,null,null,null,null,null,null,null,null,{"$f":"SUM(B9:K9)+Y9","v":0},null,{"$f":"IF(B9=\"M\",10)","v":false},{"$f":"IF(C9=\"M\",10)","v":false},false,false,false,false,false,false,false,false,{"$f":"SUM(O9:X9)","v":0}]
["11 - 20",null,null,null,null,null,null,null,null,null,null,null,{"$f":"SUM(B10:K10)+Y10","v":0},null,{"$f":"IF(B10=\"M\",10)","v":false},{"$f":"IF(C10=\"M\",10)","v":false},false,false,false,false,false,false,false,false,{"$f":"SUM(O10:X10)","v":0}]
["21 - 30",null,null,null,null,null,null,null,null,null,null,null,{"$f":"SUM(B11:K11)+Y11","v":0},null,{"$f":"IF(B11=\"M\",10)","v":false},{"$f":"IF(C11=\"M\",10)","v":false},false,false,false,false,false,false,false,false,{"$f":"SUM(O11:X11)","v":0}]
["21 - 40",null,null,null,null,null,null,null,null,null,null,8,{"$f":"SUM(B12:K12)+Y12","v":0},null,{"$f":"IF(B12=\"M\",10)","v":false},{"$f":"IF(C12=\"M\",10)","v":false},{"$f":"IF(D12=\"M\",10)","v":false},{"$f":"IF(E12=\"M\",10)","v":false},{"$f":"IF(F12=\"M\",10)","v":false},{"$f":"IF(G12=\"M\",10)","v":false},{"$f":"IF(H12=\"M\",10)","v":false},{"$f":"IF(I12=\"M\",10)","v":false},{"$f":"IF(J12=\"M\",10)","v":false},{"$f":"IF(K12=\"M\",10)","v":false},{"$f":"SUM(O12:X12)","v":0}]
[null,null,null,null,null,null,null,null,null,null,"Resultat",null,{"$f":"SUM(M9:M12)","v":0}]
[]
["Wert",10,9,8,7,6,5,4,3,2,1,null,"M"]
["Anzahl",{"$f":"COUNTIF($B9:$K12,\"10\")+M16","v":0},{"$f":"COUNTIF($B9:$K12,\"9\")","v":0},{"$f":"COUNTIF($B9:$K12,\"8\")","v":0},{"$f":"COUNTIF($B9:$K12,\"7\")","v":0},{"$f":"COUNTIF($B9:$K12,\"6\")","v":0},{"$f":"COUNTIF($B9:$K12,\"5\")","v":0},{"$f":"COUNTIF($B9:$K12,\"4\")","v":0},{"$f":"COUNTIF($B9:$K12,\"3\")","v":0},{"$f":"COUNTIF($B9:$K12,\"2\")","v":0},{"$f":"COUNTIF($B9:$K12,\"1\")","v":0},null,{"$f":"COUNTIF($B9:$K12,\"M\")","v":0}]

{"sheet":"15","index":15,"n_rows":16,"n_cols":25,"rows_kept":16,"cut":false,"hidden":false,"merged":[[4,11,4,12],[5,1,5,2]]}
[null,null,{"$f":"Startliste!C1","v":"Qualifikation"},null,null,null,null,null,null,null,null,null,{"$f":"Startliste!C2","v":"Meisterschaft der Veteranen 2024"}]
[null,null,{"$f":"Startliste!C4","v":0},null,null,null,null,null,null,null,null,null,null,null,null,null,null,null,null,null,null,1]
[]
[]
["Name",{"$f":"Startliste!B30","v":0},null,null,null,"Vorname",{"$f":"Startliste!C30","v":0},null,null,"St.",{"$f":"Startliste!F30","v":0},"Start-Nr."]
["Jahrgang",{"$f":"Startliste!D30","v":0},null,null,null,"Sektion",{"$f":"Startliste!E30","v":0},null,null,"Kat.",{"$f":"Startliste!H30","v":0},null,{"$f":"Startliste!A30","v":15}]
[]
[null,1,2,3,4,5,6,7,8,9,10,null,"Total"]
["1 - 10",null,null,null,null,null,null,null,null,null,null,null,{"$f":"SUM(B9:K9)+Y9","v":0},null,{"$f":"IF(B9=\"M\",10)","v":false},{"$f":"IF(C9=\"M\",10)","v":false},false,false,false,false,false,false,false,false,{"$f":"SUM(O9:X9)","v":0}]
["11 - 20",null,null,null,null,null,null,null,null,null,null,null,{"$f":"SUM(B10:K10)+Y10","v":0},null,{"$f":"IF(B10=\"M\",10)","v":false},{"$f":"IF(C10=\"M\",10)","v":false},false,false,false,false,false,false,false,false,{"$f":"SUM(O10:X10)","v":0}]
["21 - 30",null,null,null,null,null,null,null,null,null,null,null,{"$f":"SUM(B11:K11)+Y11","v":0},null,{"$f":"IF(B11=\"M\",10)","v":false},{"$f":"IF(C11=\"M\",10)","v":false},false,false,false,false,false,false,false,false,{"$f":"SUM(O11:X11)","v":0}]
["21 - 40",null,null,null,null,null,null,null,null,null,null,8,{"$f":"SUM(B12:K12)+Y12","v":0},null,{"$f":"IF(B12=\"M\",10)","v":false},{"$f":"IF(C12=\"M\",10)","v":false},{"$f":"IF(D12=\"M\",10)","v":false},{"$f":"IF(E12=\"M\",10)","v":false},{"$f":"IF(F12=\"M\",10)","v":false},{"$f":"IF(G12=\"M\",10)","v":false},{"$f":"IF(H12=\"M\",10)","v":false},{"$f":"IF(I12=\"M\",10)","v":false},{"$f":"IF(J12=\"M\",10)","v":false},{"$f":"IF(K12=\"M\",10)","v":false},{"$f":"SUM(O12:X12)","v":0}]
[null,null,null,null,null,null,null,null,null,null,"Resultat",null,{"$f":"SUM(M9:M12)","v":0}]
[]
["Wert",10,9,8,7,6,5,4,3,2,1,null,"M"]
["Anzahl",{"$f":"COUNTIF($B9:$K12,\"10\")+M16","v":0},{"$f":"COUNTIF($B9:$K12,\"9\")","v":0},{"$f":"COUNTIF($B9:$K12,\"8\")","v":0},{"$f":"COUNTIF($B9:$K12,\"7\")","v":0},{"$f":"COUNTIF($B9:$K12,\"6\")","v":0},{"$f":"COUNTIF($B9:$K12,\"5\")","v":0},{"$f":"COUNTIF($B9:$K12,\"4\")","v":0},{"$f":"COUNTIF($B9:$K12,\"3\")","v":0},{"$f":"COUNTIF($B9:$K12,\"2\")","v":0},{"$f":"COUNTIF($B9:$K12,\"1\")","v":0},null,{"$f":"COUNTIF($B9:$K12,\"M\")","v":0}]

{"sheet":"16","index":16,"n_rows":16,"n_cols":25,"rows_kept":16,"cut":false,"hidden":false,"merged":[[4,11,4,12],[5,1,5,2]]}
[null,null,{"$f":"Startliste!C1","v":"Qualifikation"},null,null,null,null,null,null,null,null,null,{"$f":"Startliste!C2","v":"Meisterschaft der Veteranen 2024"}]
[null,null,{"$f":"Startliste!C4","v":0},null,null,null,null,null,null,null,null,null,null,null,null,null,null,null,null,null,null,1]
[]
[]
["Name",{"$f":"Startliste!B31","v":0},null,null,null,"Vorname",{"$f":"Startliste!C31","v":0},null,null,"St.",{"$f":"Startliste!F31","v":0},"Start-Nr."]
["Jahrgang",{"$f":"Startliste!D31","v":0},null,null,null,"Sektion",{"$f":"Startliste!E31","v":0},null,null,"Kat.",{"$f":"Startliste!H31","v":0},null,{"$f":"Startliste!A31","v":16}]
[]
[null,1,2,3,4,5,6,7,8,9,10,null,"Total"]
["1 - 10",null,null,null,null,null,null,null,null,null,null,null,{"$f":"SUM(B9:K9)+Y9","v":0},null,{"$f":"IF(B9=\"M\",10)","v":false},{"$f":"IF(C9=\"M\",10)","v":false},false,false,false,false,false,false,false,false,{"$f":"SUM(O9:X9)","v":0}]
["11 - 20",null,null,null,null,null,null,null,null,null,null,null,{"$f":"SUM(B10:K10)+Y10","v":0},null,{"$f":"IF(B10=\"M\",10)","v":false},{"$f":"IF(C10=\"M\",10)","v":false},false,false,false,false,false,false,false,false,{"$f":"SUM(O10:X10)","v":0}]
["21 - 30",null,null,null,null,null,null,null,null,null,null,null,{"$f":"SUM(B11:K11)+Y11","v":0},null,{"$f":"IF(B11=\"M\",10)","v":false},{"$f":"IF(C11=\"M\",10)","v":false},false,false,false,false,false,false,false,false,{"$f":"SUM(O11:X11)","v":0}]
["21 - 40",null,null,null,null,null,null,null,null,null,null,8,{"$f":"SUM(B12:K12)+Y12","v":0},null,{"$f":"IF(B12=\"M\",10)","v":false},{"$f":"IF(C12=\"M\",10)","v":false},{"$f":"IF(D12=\"M\",10)","v":false},{"$f":"IF(E12=\"M\",10)","v":false},{"$f":"IF(F12=\"M\",10)","v":false},{"$f":"IF(G12=\"M\",10)","v":false},{"$f":"IF(H12=\"M\",10)","v":false},{"$f":"IF(I12=\"M\",10)","v":false},{"$f":"IF(J12=\"M\",10)","v":false},{"$f":"IF(K12=\"M\",10)","v":false},{"$f":"SUM(O12:X12)","v":0}]
[null,null,null,null,null,null,null,null,null,null,"Resultat",null,{"$f":"SUM(M9:M12)","v":0}]
[]
["Wert",10,9,8,7,6,5,4,3,2,1,null,"M"]
["Anzahl",{"$f":"COUNTIF($B9:$K12,\"10\")+M16","v":0},{"$f":"COUNTIF($B9:$K12,\"9\")","v":0},{"$f":"COUNTIF($B9:$K12,\"8\")","v":0},{"$f":"COUNTIF($B9:$K12,\"7\")","v":0},{"$f":"COUNTIF($B9:$K12,\"6\")","v":0},{"$f":"COUNTIF($B9:$K12,\"5\")","v":0},{"$f":"COUNTIF($B9:$K12,\"4\")","v":0},{"$f":"COUNTIF($B9:$K12,\"3\")","v":0},{"$f":"COUNTIF($B9:$K12,\"2\")","v":0},{"$f":"COUNTIF($B9:$K12,\"1\")","v":0},null,{"$f":"COUNTIF($B9:$K12,\"M\")","v":0}]

{"sheet":"17","index":17,"n_rows":16,"n_cols":25,"rows_kept":16,"cut":false,"hidden":false,"merged":[[4,11,4,12],[5,1,5,2]]}
[null,null,{"$f":"Startliste!C1","v":"Qualifikation"},null,null,null,null,null,null,null,null,null,{"$f":"Startliste!C2","v":"Meisterschaft der Veteranen 2024"}]
[null,null,{"$f":"Startliste!C4","v":0},null,null,null,null,null,null,null,null,null,null,null,null,null,null,null,null,null,null,1]
[]
[]
["Name",{"$f":"Startliste!B32","v":0},null,null,null,"Vorname",{"$f":"Startliste!C32","v":0},null,null,"St.",{"$f":"Startliste!F32","v":0},"Start-Nr."]
["Jahrgang",{"$f":"Startliste!D32","v":0},null,null,null,"Sektion",{"$f":"Startliste!E32","v":0},null,null,"Kat.",{"$f":"Startliste!H32","v":0},null,{"$f":"Startliste!A32","v":17}]
[]
[null,1,2,3,4,5,6,7,8,9,10,null,"Total"]
["1 - 10",null,null,null,null,null,null,null,null,null,null,null,{"$f":"SUM(B9:K9)+Y9","v":0},null,{"$f":"IF(B9=\"M\",10)","v":false},{"$f":"IF(C9=\"M\",10)","v":false},false,false,false,false,false,false,false,false,{"$f":"SUM(O9:X9)","v":0}]
["11 - 20",null,null,null,null,null,null,null,null,null,null,null,{"$f":"SUM(B10:K10)+Y10","v":0},null,{"$f":"IF(B10=\"M\",10)","v":false},{"$f":"IF(C10=\"M\",10)","v":false},false,false,false,false,false,false,false,false,{"$f":"SUM(O10:X10)","v":0}]
["21 - 30",null,null,null,null,null,null,null,null,null,null,null,{"$f":"SUM(B11:K11)+Y11","v":0},null,{"$f":"IF(B11=\"M\",10)","v":false},{"$f":"IF(C11=\"M\",10)","v":false},false,false,false,false,false,false,false,false,{"$f":"SUM(O11:X11)","v":0}]
["21 - 40",null,null,null,null,null,null,null,null,null,null,8,{"$f":"SUM(B12:K12)+Y12","v":0},null,{"$f":"IF(B12=\"M\",10)","v":false},{"$f":"IF(C12=\"M\",10)","v":false},{"$f":"IF(D12=\"M\",10)","v":false},{"$f":"IF(E12=\"M\",10)","v":false},{"$f":"IF(F12=\"M\",10)","v":false},{"$f":"IF(G12=\"M\",10)","v":false},{"$f":"IF(H12=\"M\",10)","v":false},{"$f":"IF(I12=\"M\",10)","v":false},{"$f":"IF(J12=\"M\",10)","v":false},{"$f":"IF(K12=\"M\",10)","v":false},{"$f":"SUM(O12:X12)","v":0}]
[null,null,null,null,null,null,null,null,null,null,"Resultat",null,{"$f":"SUM(M9:M12)","v":0}]
[]
["Wert",10,9,8,7,6,5,4,3,2,1,null,"M"]
["Anzahl",{"$f":"COUNTIF($B9:$K12,\"10\")+M16","v":0},{"$f":"COUNTIF($B9:$K12,\"9\")","v":0},{"$f":"COUNTIF($B9:$K12,\"8\")","v":0},{"$f":"COUNTIF($B9:$K12,\"7\")","v":0},{"$f":"COUNTIF($B9:$K12,\"6\")","v":0},{"$f":"COUNTIF($B9:$K12,\"5\")","v":0},{"$f":"COUNTIF($B9:$K12,\"4\")","v":0},{"$f":"COUNTIF($B9:$K12,\"3\")","v":0},{"$f":"COUNTIF($B9:$K12,\"2\")","v":0},{"$f":"COUNTIF($B9:$K12,\"1\")","v":0},null,{"$f":"COUNTIF($B9:$K12,\"M\")","v":0}]

{"sheet":"18","index":18,"n_rows":16,"n_cols":25,"rows_kept":16,"cut":false,"hidden":false,"merged":[[4,11,4,12],[5,1,5,2]]}
[null,null,{"$f":"Startliste!C1","v":"Qualifikation"},null,null,null,null,null,null,null,null,null,{"$f":"Startliste!C2","v":"Meisterschaft der Veteranen 2024"}]
[null,null,{"$f":"Startliste!C4","v":0},null,null,null,null,null,null,null,null,null,null,null,null,null,null,null,null,null,null,1]
[]
[]
["Name",{"$f":"Startliste!B33","v":0},null,null,null,"Vorname",{"$f":"Startliste!C33","v":0},null,null,"St.",{"$f":"Startliste!F33","v":0},"Start-Nr."]
["Jahrgang",{"$f":"Startliste!D33","v":0},null,null,null,"Sektion",{"$f":"Startliste!E33","v":0},null,null,"Kat.",{"$f":"Startliste!H33","v":0},null,{"$f":"Startliste!A33","v":18}]
[]
[null,1,2,3,4,5,6,7,8,9,10,null,"Total"]
["1 - 10",null,null,null,null,null,null,null,null,null,null,null,{"$f":"SUM(B9:K9)+Y9","v":0},null,{"$f":"IF(B9=\"M\",10)","v":false},{"$f":"IF(C9=\"M\",10)","v":false},false,false,false,false,false,false,false,false,{"$f":"SUM(O9:X9)","v":0}]
["11 - 20",null,null,null,null,null,null,null,null,null,null,null,{"$f":"SUM(B10:K10)+Y10","v":0},null,{"$f":"IF(B10=\"M\",10)","v":false},{"$f":"IF(C10=\"M\",10)","v":false},false,false,false,false,false,false,false,false,{"$f":"SUM(O10:X10)","v":0}]
["21 - 30",null,null,null,null,null,null,null,null,null,null,null,{"$f":"SUM(B11:K11)+Y11","v":0},null,{"$f":"IF(B11=\"M\",10)","v":false},{"$f":"IF(C11=\"M\",10)","v":false},false,false,false,false,false,false,false,false,{"$f":"SUM(O11:X11)","v":0}]
["21 - 40",null,null,null,null,null,null,null,null,null,null,8,{"$f":"SUM(B12:K12)+Y12","v":0},null,{"$f":"IF(B12=\"M\",10)","v":false},{"$f":"IF(C12=\"M\",10)","v":false},{"$f":"IF(D12=\"M\",10)","v":false},{"$f":"IF(E12=\"M\",10)","v":false},{"$f":"IF(F12=\"M\",10)","v":false},{"$f":"IF(G12=\"M\",10)","v":false},{"$f":"IF(H12=\"M\",10)","v":false},{"$f":"IF(I12=\"M\",10)","v":false},{"$f":"IF(J12=\"M\",10)","v":false},{"$f":"IF(K12=\"M\",10)","v":false},{"$f":"SUM(O12:X12)","v":0}]
[null,null,null,null,null,null,null,null,null,null,"Resultat",null,{"$f":"SUM(M9:M12)","v":0}]
[]
["Wert",10,9,8,7,6,5,4,3,2,1,null,"M"]
["Anzahl",{"$f":"COUNTIF($B9:$K12,\"10\")+M16","v":0},{"$f":"COUNTIF($B9:$K12,\"9\")","v":0},{"$f":"COUNTIF($B9:$K12,\"8\")","v":0},{"$f":"COUNTIF($B9:$K12,\"7\")","v":0},{"$f":"COUNTIF($B9:$K12,\"6\")","v":0},{"$f":"COUNTIF($B9:$K12,\"5\")","v":0},{"$f":"COUNTIF($B9:$K12,\"4\")","v":0},{"$f":"COUNTIF($B9:$K12,\"3\")","v":0},{"$f":"COUNTIF($B9:$K12,\"2\")","v":0},{"$f":"COUNTIF($B9:$K12,\"1\")","v":0},null,{"$f":"COUNTIF($B9:$K12,\"M\")","v":0}]

{"sheet":"19","index":19,"n_rows":16,"n_cols":25,"rows_kept":16,"cut":false,"hidden":false,"merged":[[4,11,4,12],[5,1,5,2]]}
[null,null,{"$f":"Startliste!C1","v":"Qualifikation"},null,null,null,null,null,null,null,null,null,{"$f":"Startliste!C2","v":"Meisterschaft der Veteranen 2024"}]
[null,null,{"$f":"Startliste!C4","v":0},null,null,null,null,null,null,null,null,null,null,null,null,null,null,null,null,null,null,1]
[]
[]
["Name",{"$f":"Startliste!B34","v":0},null,null,null,"Vorname",{"$f":"Startliste!C34","v":0},null,null,"St.",{"$f":"Startliste!F34","v":0},"Start-Nr."]
["Jahrgang",{"$f":"Startliste!D34","v":0},null,null,null,"Sektion",{"$f":"Startliste!E34","v":0},null,null,"Kat.",{"$f":"Startliste!H34","v":0},null,{"$f":"Startliste!A34","v":19}]
[]
[null,1,2,3,4,5,6,7,8,9,10,null,"Total"]
["1 - 10",null,null,null,null,null,null,null,null,null,null,null,{"$f":"SUM(B9:K9)+Y9","v":0},null,{"$f":"IF(B9=\"M\",10)","v":false},{"$f":"IF(C9=\"M\",10)","v":false},false,false,false,false,false,false,false,false,{"$f":"SUM(O9:X9)","v":0}]
["11 - 20",null,null,null,null,null,null,null,null,null,null,null,{"$f":"SUM(B10:K10)+Y10","v":0},null,{"$f":"IF(B10=\"M\",10)","v":false},{"$f":"IF(C10=\"M\",10)","v":false},false,false,false,false,false,false,false,false,{"$f":"SUM(O10:X10)","v":0}]
["21 - 30",null,null,null,null,null,null,null,null,null,null,null,{"$f":"SUM(B11:K11)+Y11","v":0},null,{"$f":"IF(B11=\"M\",10)","v":false},{"$f":"IF(C11=\"M\",10)","v":false},false,false,false,false,false,false,false,false,{"$f":"SUM(O11:X11)","v":0}]
["21 - 40",null,null,null,null,null,null,null,null,null,null,8,{"$f":"SUM(B12:K12)+Y12","v":0},null,{"$f":"IF(B12=\"M\",10)","v":false},{"$f":"IF(C12=\"M\",10)","v":false},{"$f":"IF(D12=\"M\",10)","v":false},{"$f":"IF(E12=\"M\",10)","v":false},{"$f":"IF(F12=\"M\",10)","v":false},{"$f":"IF(G12=\"M\",10)","v":false},{"$f":"IF(H12=\"M\",10)","v":false},{"$f":"IF(I12=\"M\",10)","v":false},{"$f":"IF(J12=\"M\",10)","v":false},{"$f":"IF(K12=\"M\",10)","v":false},{"$f":"SUM(O12:X12)","v":0}]
[null,null,null,null,null,null,null,null,null,null,"Resultat",null,{"$f":"SUM(M9:M12)","v":0}]
[]
["Wert",10,9,8,7,6,5,4,3,2,1,null,"M"]
["Anzahl",{"$f":"COUNTIF($B9:$K12,\"10\")+M16","v":0},{"$f":"COUNTIF($B9:$K12,\"9\")","v":0},{"$f":"COUNTIF($B9:$K12,\"8\")","v":0},{"$f":"COUNTIF($B9:$K12,\"7\")","v":0},{"$f":"COUNTIF($B9:$K12,\"6\")","v":0},{"$f":"COUNTIF($B9:$K12,\"5\")","v":0},{"$f":"COUNTIF($B9:$K12,\"4\")","v":0},{"$f":"COUNTIF($B9:$K12,\"3\")","v":0},{"$f":"COUNTIF($B9:$K12,\"2\")","v":0},{"$f":"COUNTIF($B9:$K12,\"1\")","v":0},null,{"$f":"COUNTIF($B9:$K12,\"M\")","v":0}]

{"sheet":"20","index":20,"n_rows":16,"n_cols":25,"rows_kept":16,"cut":false,"hidden":false,"merged":[[4,11,4,12],[5,1,5,2]]}
[null,null,{"$f":"Startliste!C1","v":"Qualifikation"},null,null,null,null,null,null,null,null,null,{"$f":"Startliste!C2","v":"Meisterschaft der Veteranen 2024"}]
[null,null,{"$f":"Startliste!C4","v":0},null,null,null,null,null,null,null,null,null,null,null,null,null,null,null,null,null,null,1]
[]
[]
["Name",{"$f":"Startliste!B35","v":0},null,null,null,"Vorname",{"$f":"Startliste!C35","v":0},null,null,"St.",{"$f":"Startliste!F35","v":0},"Start-Nr."]
["Jahrgang",{"$f":"Startliste!D35","v":0},null,null,null,"Sektion",{"$f":"Startliste!E35","v":0},null,null,"Kat.",{"$f":"Startliste!H35","v":0},null,{"$f":"Startliste!A35","v":20}]
[]
[null,1,2,3,4,5,6,7,8,9,10,null,"Total"]
["1 - 10",null,null,null,null,null,null,null,null,null,null,null,{"$f":"SUM(B9:K9)+Y9","v":0},null,{"$f":"IF(B9=\"M\",10)","v":false},{"$f":"IF(C9=\"M\",10)","v":false},false,false,false,false,false,false,false,false,{"$f":"SUM(O9:X9)","v":0}]
["11 - 20",null,null,null,null,null,null,null,null,null,null,null,{"$f":"SUM(B10:K10)+Y10","v":0},null,{"$f":"IF(B10=\"M\",10)","v":false},{"$f":"IF(C10=\"M\",10)","v":false},false,false,false,false,false,false,false,false,{"$f":"SUM(O10:X10)","v":0}]
["21 - 30",null,null,null,null,null,null,null,null,null,null,null,{"$f":"SUM(B11:K11)+Y11","v":0},null,{"$f":"IF(B11=\"M\",10)","v":false},{"$f":"IF(C11=\"M\",10)","v":false},false,false,false,false,false,false,false,false,{"$f":"SUM(O11:X11)","v":0}]
["21 - 40",null,null,null,null,null,null,null,null,null,null,8,{"$f":"SUM(B12:K12)+Y12","v":0},null,{"$f":"IF(B12=\"M\",10)","v":false},{"$f":"IF(C12=\"M\",10)","v":false},{"$f":"IF(D12=\"M\",10)","v":false},{"$f":"IF(E12=\"M\",10)","v":false},{"$f":"IF(F12=\"M\",10)","v":false},{"$f":"IF(G12=\"M\",10)","v":false},{"$f":"IF(H12=\"M\",10)","v":false},{"$f":"IF(I12=\"M\",10)","v":false},{"$f":"IF(J12=\"M\",10)","v":false},{"$f":"IF(K12=\"M\",10)","v":false},{"$f":"SUM(O12:X12)","v":0}]
[null,null,null,null,null,null,null,null,null,null,"Resultat",null,{"$f":"SUM(M9:M12)","v":0}]
[]
["Wert",10,9,8,7,6,5,4,3,2,1,null,"M"]
["Anzahl",{"$f":"COUNTIF($B9:$K12,\"10\")+M16","v":0},{"$f":"COUNTIF($B9:$K12,\"9\")","v":0},{"$f":"COUNTIF($B9:$K12,\"8\")","v":0},{"$f":"COUNTIF($B9:$K12,\"7\")","v":0},{"$f":"COUNTIF($B9:$K12,\"6\")","v":0},{"$f":"COUNTIF($B9:$K12,\"5\")","v":0},{"$f":"COUNTIF($B9:$K12,\"4\")","v":0},{"$f":"COUNTIF($B9:$K12,\"3\")","v":0},{"$f":"COUNTIF($B9:$K12,\"2\")","v":0},{"$f":"COUNTIF($B9:$K12,\"1\")","v":0},null,{"$f":"COUNTIF($B9:$K12,\"M\")","v":0}]

{"sheet":"21","index":21,"n_rows":16,"n_cols":25,"rows_kept":16,"cut":false,"hidden":true,"merged":[[4,11,4,12],[5,1,5,2]]}
[null,null,{"$f":"Startliste!C1","v":"Qualifikation"},null,null,null,null,null,null,null,null,null,{"$f":"Startliste!C2","v":"Meisterschaft der Veteranen 2024"}]
[null,null,{"$f":"Startliste!C4","v":0},null,null,null,null,null,null,null,null,null,null,null,null,null,null,null,null,null,null,1]
[]
[]
["Name",{"$f":"Startliste!B36","v":0},null,null,null,"Vorname",{"$f":"Startliste!C36","v":0},null,null,"St.",{"$f":"Startliste!F36","v":0},"Start-Nr."]
["Jahrgang",{"$f":"Startliste!D36","v":0},null,null,null,"Sektion",{"$f":"Startliste!E36","v":0},null,null,"Kat.",{"$f":"Startliste!H36","v":0},null,{"$f":"Startliste!A36","v":21}]
[]
[null,1,2,3,4,5,6,7,8,9,10,null,"Total"]
["1 - 10",null,null,null,null,null,null,null,null,null,null,null,{"$f":"SUM(B9:K9)+Y9","v":0},null,{"$f":"IF(B9=\"M\",10)","v":false},{"$f":"IF(C9=\"M\",10)","v":false},false,false,false,false,false,false,false,false,{"$f":"SUM(O9:X9)","v":0}]
["11 - 20",null,null,null,null,null,null,null,null,null,null,10,{"$f":"SUM(B10:K10)+Y10","v":0},null,{"$f":"IF(B10=\"M\",10)","v":false},{"$f":"IF(C10=\"M\",10)","v":false},false,false,false,false,false,false,false,false,{"$f":"SUM(O10:X10)","v":0}]
["21 - 30",null,null,null,null,null,null,null,null,null,null,8,{"$f":"SUM(B11:K11)+Y11","v":0},null,{"$f":"IF(B11=\"M\",10)","v":false},{"$f":"IF(C11=\"M\",10)","v":false},false,false,false,false,false,false,false,false,{"$f":"SUM(O11:X11)","v":0}]
["21 - 40",null,null,null,null,null,null,null,null,null,null,8,{"$f":"SUM(B12:K12)+Y12","v":0},null,{"$f":"IF(B12=\"M\",10)","v":false},{"$f":"IF(C12=\"M\",10)","v":false},{"$f":"IF(D12=\"M\",10)","v":false},{"$f":"IF(E12=\"M\",10)","v":false},{"$f":"IF(F12=\"M\",10)","v":false},{"$f":"IF(G12=\"M\",10)","v":false},{"$f":"IF(H12=\"M\",10)","v":false},{"$f":"IF(I12=\"M\",10)","v":false},{"$f":"IF(J12=\"M\",10)","v":false},{"$f":"IF(K12=\"M\",10)","v":false},{"$f":"SUM(O12:X12)","v":0}]
[null,null,null,null,null,null,null,null,null,null,"Resultat",null,{"$f":"SUM(M9:M12)","v":0}]
[]
["Wert",10,9,8,7,6,5,4,3,2,1,null,"M"]
["Anzahl",{"$f":"COUNTIF($B9:$K12,\"10\")+M16","v":0},{"$f":"COUNTIF($B9:$K12,\"9\")","v":0},{"$f":"COUNTIF($B9:$K12,\"8\")","v":0},{"$f":"COUNTIF($B9:$K12,\"7\")","v":0},{"$f":"COUNTIF($B9:$K12,\"6\")","v":0},{"$f":"COUNTIF($B9:$K12,\"5\")","v":0},{"$f":"COUNTIF($B9:$K12,\"4\")","v":0},{"$f":"COUNTIF($B9:$K12,\"3\")","v":0},{"$f":"COUNTIF($B9:$K12,\"2\")","v":0},{"$f":"COUNTIF($B9:$K12,\"1\")","v":0},null,{"$f":"COUNTIF($B9:$K12,\"M\")","v":0}]

{"sheet":"22","index":22,"n_rows":16,"n_cols":25,"rows_kept":16,"cut":false,"hidden":true,"merged":[[4,11,4,12],[5,1,5,2]]}
[null,null,{"$f":"Startliste!C1","v":"Qualifikation"},null,null,null,null,null,null,null,null,null,{"$f":"Startliste!C2","v":"Meisterschaft der Veteranen 2024"}]
[null,null,{"$f":"Startliste!C4","v":0},null,null,null,null,null,null,null,null,null,null,null,null,null,null,null,null,null,null,1]
[]
[]
["Name",{"$f":"Startliste!B37","v":0},null,null,null,"Vorname",{"$f":"Startliste!C37","v":0},null,null,"St.",{"$f":"Startliste!F37","v":0},"Start-Nr."]
["Jahrgang",{"$f":"Startliste!D37","v":0},null,null,null,"Sektion",{"$f":"Startliste!E37","v":0},null,null,"Kat.",{"$f":"Startliste!H37","v":0},null,{"$f":"Startliste!A37","v":22}]
[]
[null,1,2,3,4,5,6,7,8,9,10,null,"Total"]
["1 - 10",null,null,null,null,null,null,null,null,null,null,null,{"$f":"SUM(B9:K9)+Y9","v":0},null,{"$f":"IF(B9=\"M\",10)","v":false},{"$f":"IF(C9=\"M\",10)","v":false},false,false,false,false,false,false,false,false,{"$f":"SUM(O9:X9)","v":0}]
["11 - 20",null,null,null,null,null,null,null,null,null,null,10,{"$f":"SUM(B10:K10)+Y10","v":0},null,{"$f":"IF(B10=\"M\",10)","v":false},{"$f":"IF(C10=\"M\",10)","v":false},false,false,false,false,false,false,false,false,{"$f":"SUM(O10:X10)","v":0}]
["21 - 30",null,null,null,null,null,null,null,null,null,null,8,{"$f":"SUM(B11:K11)+Y11","v":0},null,{"$f":"IF(B11=\"M\",10)","v":false},{"$f":"IF(C11=\"M\",10)","v":false},false,false,false,false,false,false,false,false,{"$f":"SUM(O11:X11)","v":0}]
["21 - 40",null,null,null,null,null,null,null,null,null,null,8,{"$f":"SUM(B12:K12)+Y12","v":0},null,{"$f":"IF(B12=\"M\",10)","v":false},{"$f":"IF(C12=\"M\",10)","v":false},{"$f":"IF(D12=\"M\",10)","v":false},{"$f":"IF(E12=\"M\",10)","v":false},{"$f":"IF(F12=\"M\",10)","v":false},{"$f":"IF(G12=\"M\",10)","v":false},{"$f":"IF(H12=\"M\",10)","v":false},{"$f":"IF(I12=\"M\",10)","v":false},{"$f":"IF(J12=\"M\",10)","v":false},{"$f":"IF(K12=\"M\",10)","v":false},{"$f":"SUM(O12:X12)","v":0}]
[null,null,null,null,null,null,null,null,null,null,"Resultat",null,{"$f":"SUM(M9:M12)","v":0}]
[]
["Wert",10,9,8,7,6,5,4,3,2,1,null,"M"]
["Anzahl",{"$f":"COUNTIF($B9:$K12,\"10\")+M16","v":0},{"$f":"COUNTIF($B9:$K12,\"9\")","v":0},{"$f":"COUNTIF($B9:$K12,\"8\")","v":0},{"$f":"COUNTIF($B9:$K12,\"7\")","v":0},{"$f":"COUNTIF($B9:$K12,\"6\")","v":0},{"$f":"COUNTIF($B9:$K12,\"5\")","v":0},{"$f":"COUNTIF($B9:$K12,\"4\")","v":0},{"$f":"COUNTIF($B9:$K12,\"3\")","v":0},{"$f":"COUNTIF($B9:$K12,\"2\")","v":0},{"$f":"COUNTIF($B9:$K12,\"1\")","v":0},null,{"$f":"COUNTIF($B9:$K12,\"M\")","v":0}]

{"sheet":"23","index":23,"n_rows":16,"n_cols":25,"rows_kept":16,"cut":false,"hidden":true,"merged":[[4,11,4,12],[5,1,5,2]]}
[null,null,{"$f":"Startliste!C1","v":"Qualifikation"},null,null,null,null,null,null,null,null,null,{"$f":"Startliste!C2","v":"Meisterschaft der Veteranen 2024"}]
[null,null,{"$f":"Startliste!C4","v":0},null,null,null,null,null,null,null,null,null,null,null,null,null,null,null,null,null,null,1]
[]
[]
["Name",{"$f":"Startliste!B38","v":0},null,null,null,"Vorname",{"$f":"Startliste!C38","v":0},null,null,"St.",{"$f":"Startliste!F38","v":0},"Start-Nr."]
["Jahrgang",{"$f":"Startliste!D38","v":0},null,null,null,"Sektion",{"$f":"Startliste!E38","v":0},null,null,"Kat.",{"$f":"Startliste!H38","v":0},null,{"$f":"Startliste!A38","v":23}]
[]
[null,1,2,3,4,5,6,7,8,9,10,null,"Total"]
["1 - 10",null,null,null,null,null,null,null,null,null,null,null,{"$f":"SUM(B9:K9)+Y9","v":0},null,{"$f":"IF(B9=\"M\",10)","v":false},{"$f":"IF(C9=\"M\",10)","v":false},false,false,false,false,false,false,false,false,{"$f":"SUM(O9:X9)","v":0}]
["11 - 20",null,null,null,null,null,null,null,null,null,null,10,{"$f":"SUM(B10:K10)+Y10","v":0},null,{"$f":"IF(B10=\"M\",10)","v":false},{"$f":"IF(C10=\"M\",10)","v":false},false,false,false,false,false,false,false,false,{"$f":"SUM(O10:X10)","v":0}]
["21 - 30",null,null,null,null,null,null,null,null,null,null,8,{"$f":"SUM(B11:K11)+Y11","v":0},null,{"$f":"IF(B11=\"M\",10)","v":false},{"$f":"IF(C11=\"M\",10)","v":false},false,false,false,false,false,false,false,false,{"$f":"SUM(O11:X11)","v":0}]
["21 - 40",null,null,null,null,null,null,null,null,null,null,8,{"$f":"SUM(B12:K12)+Y12","v":0},null,{"$f":"IF(B12=\"M\",10)","v":false},{"$f":"IF(C12=\"M\",10)","v":false},{"$f":"IF(D12=\"M\",10)","v":false},{"$f":"IF(E12=\"M\",10)","v":false},{"$f":"IF(F12=\"M\",10)","v":false},{"$f":"IF(G12=\"M\",10)","v":false},{"$f":"IF(H12=\"M\",10)","v":false},{"$f":"IF(I12=\"M\",10)","v":false},{"$f":"IF(J12=\"M\",10)","v":false},{"$f":"IF(K12=\"M\",10)","v":false},{"$f":"SUM(O12:X12)","v":0}]
[null,null,null,null,null,null,null,null,null,null,"Resultat",null,{"$f":"SUM(M9:M12)","v":0}]
[]
["Wert",10,9,8,7,6,5,4,3,2,1,null,"M"]
["Anzahl",{"$f":"COUNTIF($B9:$K12,\"10\")+M16","v":0},{"$f":"COUNTIF($B9:$K12,\"9\")","v":0},{"$f":"COUNTIF($B9:$K12,\"8\")","v":0},{"$f":"COUNTIF($B9:$K12,\"7\")","v":0},{"$f":"COUNTIF($B9:$K12,\"6\")","v":0},{"$f":"COUNTIF($B9:$K12,\"5\")","v":0},{"$f":"COUNTIF($B9:$K12,\"4\")","v":0},{"$f":"COUNTIF($B9:$K12,\"3\")","v":0},{"$f":"COUNTIF($B9:$K12,\"2\")","v":0},{"$f":"COUNTIF($B9:$K12,\"1\")","v":0},null,{"$f":"COUNTIF($B9:$K12,\"M\")","v":0}]

{"sheet":"24","index":24,"n_rows":16,"n_cols":25,"rows_kept":16,"cut":false,"hidden":true,"merged":[[4,11,4,12],[5,1,5,2]]}
[null,null,{"$f":"Startliste!C1","v":"Qualifikation"},null,null,null,null,null,null,null,null,null,{"$f":"Startliste!C2","v":"Meisterschaft der Veteranen 2024"}]
[null,null,{"$f":"Startliste!C4","v":0},null,null,null,null,null,null,null,null,null,null,null,null,null,null,null,null,null,null,1]
[]
[]
["Name",{"$f":"Startliste!B39","v":0},null,null,null,"Vorname",{"$f":"Startliste!C39","v":0},null,null,"St.",{"$f":"Startliste!F39","v":0},"Start-Nr."]
["Jahrgang",{"$f":"Startliste!D39","v":0},null,null,null,"Sektion",{"$f":"Startliste!E39","v":0},null,null,"Kat.",{"$f":"Startliste!H39","v":0},null,{"$f":"Startliste!A39","v":24}]
[]
[null,1,2,3,4,5,6,7,8,9,10,null,"Total"]
["1 - 10",null,null,null,null,null,null,null,null,null,null,null,{"$f":"SUM(B9:K9)+Y9","v":0},null,{"$f":"IF(B9=\"M\",10)","v":false},{"$f":"IF(C9=\"M\",10)","v":false},false,false,false,false,false,false,false,false,{"$f":"SUM(O9:X9)","v":0}]
["11 - 20",null,null,null,null,null,null,null,null,null,null,10,{"$f":"SUM(B10:K10)+Y10","v":0},null,{"$f":"IF(B10=\"M\",10)","v":false},{"$f":"IF(C10=\"M\",10)","v":false},false,false,false,false,false,false,false,false,{"$f":"SUM(O10:X10)","v":0}]
["21 - 30",null,null,null,null,null,null,null,null,null,null,8,{"$f":"SUM(B11:K11)+Y11","v":0},null,{"$f":"IF(B11=\"M\",10)","v":false},{"$f":"IF(C11=\"M\",10)","v":false},false,false,false,false,false,false,false,false,{"$f":"SUM(O11:X11)","v":0}]
["21 - 40",null,null,null,null,null,null,null,null,null,null,8,{"$f":"SUM(B12:K12)+Y12","v":0},null,{"$f":"IF(B12=\"M\",10)","v":false},{"$f":"IF(C12=\"M\",10)","v":false},{"$f":"IF(D12=\"M\",10)","v":false},{"$f":"IF(E12=\"M\",10)","v":false},{"$f":"IF(F12=\"M\",10)","v":false},{"$f":"IF(G12=\"M\",10)","v":false},{"$f":"IF(H12=\"M\",10)","v":false},{"$f":"IF(I12=\"M\",10)","v":false},{"$f":"IF(J12=\"M\",10)","v":false},{"$f":"IF(K12=\"M\",10)","v":false},{"$f":"SUM(O12:X12)","v":0}]
[null,null,null,null,null,null,null,null,null,null,"Resultat",null,{"$f":"SUM(M9:M12)","v":0}]
[]
["Wert",10,9,8,7,6,5,4,3,2,1,null,"M"]
["Anzahl",{"$f":"COUNTIF($B9:$K12,\"10\")+M16","v":0},{"$f":"COUNTIF($B9:$K12,\"9\")","v":0},{"$f":"COUNTIF($B9:$K12,\"8\")","v":0},{"$f":"COUNTIF($B9:$K12,\"7\")","v":0},{"$f":"COUNTIF($B9:$K12,\"6\")","v":0},{"$f":"COUNTIF($B9:$K12,\"5\")","v":0},{"$f":"COUNTIF($B9:$K12,\"4\")","v":0},{"$f":"COUNTIF($B9:$K12,\"3\")","v":0},{"$f":"COUNTIF($B9:$K12,\"2\")","v":0},{"$f":"COUNTIF($B9:$K12,\"1\")","v":0},null,{"$f":"COUNTIF($B9:$K12,\"M\")","v":0}]

{"sheet":"25","index":25,"n_rows":16,"n_cols":25,"rows_kept":16,"cut":false,"hidden":true,"merged":[[4,11,4,12],[5,1,5,2]]}
[null,null,{"$f":"Startliste!C1","v":"Qualifikation"},null,null,null,null,null,null,null,null,null,{"$f":"Startliste!C2","v":"Meisterschaft der Veteranen 2024"}]
[null,null,{"$f":"Startliste!C4","v":0},null,null,null,null,null,null,null,null,null,null,null,null,null,null,null,null,null,null,1]
[]
[]
["Name",{"$f":"Startliste!B40","v":0},null,null,null,"Vorname",{"$f":"Startliste!C40","v":0},null,null,"St.",{"$f":"Startliste!F40","v":0},"Start-Nr."]
["Jahrgang",{"$f":"Startliste!D40","v":0},null,null,null,"Sektion",{"$f":"Startliste!E40","v":0},null,null,"Kat.",{"$f":"Startliste!H40","v":0},null,{"$f":"Startliste!A40","v":25}]
[]
[null,1,2,3,4,5,6,7,8,9,10,null,"Total"]
["1 - 10",null,null,null,null,null,null,null,null,null,null,null,{"$f":"SUM(B9:K9)+Y9","v":0},null,{"$f":"IF(B9=\"M\",10)","v":false},{"$f":"IF(C9=\"M\",10)","v":false},false,false,false,false,false,false,false,false,{"$f":"SUM(O9:X9)","v":0}]
["11 - 20",null,null,null,null,null,null,null,null,null,null,10,{"$f":"SUM(B10:K10)+Y10","v":0},null,{"$f":"IF(B10=\"M\",10)","v":false},{"$f":"IF(C10=\"M\",10)","v":false},false,false,false,false,false,false,false,false,{"$f":"SUM(O10:X10)","v":0}]
["21 - 30",null,null,null,null,null,null,null,null,null,null,8,{"$f":"SUM(B11:K11)+Y11","v":0},null,{"$f":"IF(B11=\"M\",10)","v":false},{"$f":"IF(C11=\"M\",10)","v":false},false,false,false,false,false,false,false,false,{"$f":"SUM(O11:X11)","v":0}]
["21 - 40",null,null,null,null,null,null,null,null,null,null,8,{"$f":"SUM(B12:K12)+Y12","v":0},null,{"$f":"IF(B12=\"M\",10)","v":false},{"$f":"IF(C12=\"M\",10)","v":false},{"$f":"IF(D12=\"M\",10)","v":false},{"$f":"IF(E12=\"M\",10)","v":false},{"$f":"IF(F12=\"M\",10)","v":false},{"$f":"IF(G12=\"M\",10)","v":false},{"$f":"IF(H12=\"M\",10)","v":false},{"$f":"IF(I12=\"M\",10)","v":false},{"$f":"IF(J12=\"M\",10)","v":false},{"$f":"IF(K12=\"M\",10)","v":false},{"$f":"SUM(O12:X12)","v":0}]
[null,null,null,null,null,null,null,null,null,null,"Resultat",null,{"$f":"SUM(M9:M12)","v":0}]
[]
["Wert",10,9,8,7,6,5,4,3,2,1,null,"M"]
["Anzahl",{"$f":"COUNTIF($B9:$K12,\"10\")+M16","v":0},{"$f":"COUNTIF($B9:$K12,\"9\")","v":0},{"$f":"COUNTIF($B9:$K12,\"8\")","v":0},{"$f":"COUNTIF($B9:$K12,\"7\")","v":0},{"$f":"COUNTIF($B9:$K12,\"6\")","v":0},{"$f":"COUNTIF($B9:$K12,\"5\")","v":0},{"$f":"COUNTIF($B9:$K12,\"4\")","v":0},{"$f":"COUNTIF($B9:$K12,\"3\")","v":0},{"$f":"COUNTIF($B9:$K12,\"2\")","v":0},{"$f":"COUNTIF($B9:$K12,\"1\")","v":0},null,{"$f":"COUNTIF($B9:$K12,\"M\")","v":0}]

{"sheet":"26","index":26,"n_rows":16,"n_cols":25,"rows_kept":16,"cut":false,"hidden":true,"merged":[[4,11,4,12],[5,1,5,2]]}
[null,null,{"$f":"Startliste!C1","v":"Qualifikation"},null,null,null,null,null,null,null,null,null,{"$f":"Startliste!C2","v":"Meisterschaft der Veteranen 2024"}]
[null,null,{"$f":"Startliste!C4","v":0},null,null,null,null,null,null,null,null,null,null,null,null,null,null,null,null,null,null,1]
[]
[]
["Name",{"$f":"Startliste!B41","v":0},null,null,null,"Vorname",{"$f":"Startliste!C41","v":0},null,null,"St.",{"$f":"Startliste!F41","v":0},"Start-Nr."]
["Jahrgang",{"$f":"Startliste!D41","v":0},null,null,null,"Sektion",{"$f":"Startliste!E41","v":0},null,null,"Kat.",{"$f":"Startliste!H41","v":0},null,{"$f":"Startliste!A41","v":26}]
[]
[null,1,2,3,4,5,6,7,8,9,10,null,"Total"]
["1 - 10",null,null,null,null,null,null,null,null,null,null,null,{"$f":"SUM(B9:K9)+Y9","v":0},null,{"$f":"IF(B9=\"M\",10)","v":false},{"$f":"IF(C9=\"M\",10)","v":false},false,false,false,false,false,false,false,false,{"$f":"SUM(O9:X9)","v":0}]
["11 - 20",null,null,null,null,null,null,null,null,null,null,10,{"$f":"SUM(B10:K10)+Y10","v":0},null,{"$f":"IF(B10=\"M\",10)","v":false},{"$f":"IF(C10=\"M\",10)","v":false},false,false,false,false,false,false,false,false,{"$f":"SUM(O10:X10)","v":0}]
["21 - 30",null,null,null,null,null,null,null,null,null,null,8,{"$f":"SUM(B11:K11)+Y11","v":0},null,{"$f":"IF(B11=\"M\",10)","v":false},{"$f":"IF(C11=\"M\",10)","v":false},false,false,false,false,false,false,false,false,{"$f":"SUM(O11:X11)","v":0}]
["21 - 40",null,null,null,null,null,null,null,null,null,null,8,{"$f":"SUM(B12:K12)+Y12","v":0},null,{"$f":"IF(B12=\"M\",10)","v":false},{"$f":"IF(C12=\"M\",10)","v":false},{"$f":"IF(D12=\"M\",10)","v":false},{"$f":"IF(E12=\"M\",10)","v":false},{"$f":"IF(F12=\"M\",10)","v":false},{"$f":"IF(G12=\"M\",10)","v":false},{"$f":"IF(H12=\"M\",10)","v":false},{"$f":"IF(I12=\"M\",10)","v":false},{"$f":"IF(J12=\"M\",10)","v":false},{"$f":"IF(K12=\"M\",10)","v":false},{"$f":"SUM(O12:X12)","v":0}]
[null,null,null,null,null,null,null,null,null,null,"Resultat",null,{"$f":"SUM(M9:M12)","v":0}]
[]
["Wert",10,9,8,7,6,5,4,3,2,1,null,"M"]
["Anzahl",{"$f":"COUNTIF($B9:$K12,\"10\")+M16","v":0},{"$f":"COUNTIF($B9:$K12,\"9\")","v":0},{"$f":"COUNTIF($B9:$K12,\"8\")","v":0},{"$f":"COUNTIF($B9:$K12,\"7\")","v":0},{"$f":"COUNTIF($B9:$K12,\"6\")","v":0},{"$f":"COUNTIF($B9:$K12,\"5\")","v":0},{"$f":"COUNTIF($B9:$K12,\"4\")","v":0},{"$f":"COUNTIF($B9:$K12,\"3\")","v":0},{"$f":"COUNTIF($B9:$K12,\"2\")","v":0},{"$f":"COUNTIF($B9:$K12,\"1\")","v":0},null,{"$f":"COUNTIF($B9:$K12,\"M\")","v":0}]

{"sheet":"27","index":27,"n_rows":16,"n_cols":25,"rows_kept":16,"cut":false,"hidden":true,"merged":[[4,11,4,12],[5,1,5,2]]}
[null,null,{"$f":"Startliste!C1","v":"Qualifikation"},null,null,null,null,null,null,null,null,null,{"$f":"Startliste!C2","v":"Meisterschaft der Veteranen 2024"}]
[null,null,{"$f":"Startliste!C4","v":0},null,null,null,null,null,null,null,null,null,null,null,null,null,null,null,null,null,null,1]
[]
[]
["Name",{"$f":"Startliste!B42","v":0},null,null,null,"Vorname",{"$f":"Startliste!C42","v":0},null,null,"St.",{"$f":"Startliste!F42","v":0},"Start-Nr."]
["Jahrgang",{"$f":"Startliste!D42","v":0},null,null,null,"Sektion",{"$f":"Startliste!E42","v":0},null,null,"Kat.",{"$f":"Startliste!H42","v":0},null,{"$f":"Startliste!A42","v":27}]
[]
[null,1,2,3,4,5,6,7,8,9,10,null,"Total"]
["1 - 10",null,null,null,null,null,null,null,null,null,null,null,{"$f":"SUM(B9:K9)+Y9","v":0},null,{"$f":"IF(B9=\"M\",10)","v":false},{"$f":"IF(C9=\"M\",10)","v":false},false,false,false,false,false,false,false,false,{"$f":"SUM(O9:X9)","v":0}]
["11 - 20",null,null,null,null,null,null,null,null,null,null,10,{"$f":"SUM(B10:K10)+Y10","v":0},null,{"$f":"IF(B10=\"M\",10)","v":false},{"$f":"IF(C10=\"M\",10)","v":false},false,false,false,false,false,false,false,false,{"$f":"SUM(O10:X10)","v":0}]
["21 - 30",null,null,null,null,null,null,null,null,null,null,8,{"$f":"SUM(B11:K11)+Y11","v":0},null,{"$f":"IF(B11=\"M\",10)","v":false},{"$f":"IF(C11=\"M\",10)","v":false},false,false,false,false,false,false,false,false,{"$f":"SUM(O11:X11)","v":0}]
["21 - 40",null,null,null,null,null,null,null,null,null,null,8,{"$f":"SUM(B12:K12)+Y12","v":0},null,{"$f":"IF(B12=\"M\",10)","v":false},{"$f":"IF(C12=\"M\",10)","v":false},{"$f":"IF(D12=\"M\",10)","v":false},{"$f":"IF(E12=\"M\",10)","v":false},{"$f":"IF(F12=\"M\",10)","v":false},{"$f":"IF(G12=\"M\",10)","v":false},{"$f":"IF(H12=\"M\",10)","v":false},{"$f":"IF(I12=\"M\",10)","v":false},{"$f":"IF(J12=\"M\",10)","v":false},{"$f":"IF(K12=\"M\",10)","v":false},{"$f":"SUM(O12:X12)","v":0}]
[null,null,null,null,null,null,null,null,null,null,"Resultat",null,{"$f":"SUM(M9:M12)","v":0}]
[]
["Wert",10,9,8,7,6,5,4,3,2,1,null,"M"]
["Anzahl",{"$f":"COUNTIF($B9:$K12,\"10\")+M16","v":0},{"$f":"COUNTIF($B9:$K12,\"9\")","v":0},{"$f":"COUNTIF($B9:$K12,\"8\")","v":0},{"$f":"COUNTIF($B9:$K12,\"7\")","v":0},{"$f":"COUNTIF($B9:$K12,\"6\")","v":0},{"$f":"COUNTIF($B9:$K12,\"5\")","v":0},{"$f":"COUNTIF($B9:$K12,\"4\")","v":0},{"$f":"COUNTIF($B9:$K12,\"3\")","v":0},{"$f":"COUNTIF($B9:$K12,\"2\")","v":0},{"$f":"COUNTIF($B9:$K12,\"1\")","v":0},null,{"$f":"COUNTIF($B9:$K12,\"M\")","v":0}]

{"sheet":"28","index":28,"n_rows":16,"n_cols":25,"rows_kept":16,"cut":false,"hidden":true,"merged":[[4,11,4,12],[5,1,5,2]]}
[null,null,{"$f":"Startliste!C1","v":"Qualifikation"},null,null,null,null,null,null,null,null,null,{"$f":"Startliste!C2","v":"Meisterschaft der Veteranen 2024"}]
[null,null,{"$f":"Startliste!C4","v":0},null,null,null,null,null,null,null,null,null,null,null,null,null,null,null,null,null,null,1]
[]
[]
["Name",{"$f":"Startliste!B43","v":0},null,null,null,"Vorname",{"$f":"Startliste!C43","v":0},null,null,"St.",{"$f":"Startliste!F43","v":0},"Start-Nr."]
["Jahrgang",{"$f":"Startliste!D43","v":0},null,null,null,"Sektion",{"$f":"Startliste!E43","v":0},null,null,"Kat.",{"$f":"Startliste!H43","v":0},null,{"$f":"Startliste!A43","v":28}]
[]
[null,1,2,3,4,5,6,7,8,9,10,null,"Total"]
["1 - 10",null,null,null,null,null,null,null,null,null,null,null,{"$f":"SUM(B9:K9)+Y9","v":0},null,{"$f":"IF(B9=\"M\",10)","v":false},{"$f":"IF(C9=\"M\",10)","v":false},false,false,false,false,false,false,false,false,{"$f":"SUM(O9:X9)","v":0}]
["11 - 20",null,null,null,null,null,null,null,null,null,null,10,{"$f":"SUM(B10:K10)+Y10","v":0},null,{"$f":"IF(B10=\"M\",10)","v":false},{"$f":"IF(C10=\"M\",10)","v":false},false,false,false,false,false,false,false,false,{"$f":"SUM(O10:X10)","v":0}]
["21 - 30",null,null,null,null,null,null,null,null,null,null,8,{"$f":"SUM(B11:K11)+Y11","v":0},null,{"$f":"IF(B11=\"M\",10)","v":false},{"$f":"IF(C11=\"M\",10)","v":false},false,false,false,false,false,false,false,false,{"$f":"SUM(O11:X11)","v":0}]
["21 - 40",null,null,null,null,null,null,null,null,null,null,8,{"$f":"SUM(B12:K12)+Y12","v":0},null,{"$f":"IF(B12=\"M\",10)","v":false},{"$f":"IF(C12=\"M\",10)","v":false},{"$f":"IF(D12=\"M\",10)","v":false},{"$f":"IF(E12=\"M\",10)","v":false},{"$f":"IF(F12=\"M\",10)","v":false},{"$f":"IF(G12=\"M\",10)","v":false},{"$f":"IF(H12=\"M\",10)","v":false},{"$f":"IF(I12=\"M\",10)","v":false},{"$f":"IF(J12=\"M\",10)","v":false},{"$f":"IF(K12=\"M\",10)","v":false},{"$f":"SUM(O12:X12)","v":0}]
[null,null,null,null,null,null,null,null,null,null,"Resultat",null,{"$f":"SUM(M9:M12)","v":0}]
[]
["Wert",10,9,8,7,6,5,4,3,2,1,null,"M"]
["Anzahl",{"$f":"COUNTIF($B9:$K12,\"10\")+M16","v":0},{"$f":"COUNTIF($B9:$K12,\"9\")","v":0},{"$f":"COUNTIF($B9:$K12,\"8\")","v":0},{"$f":"COUNTIF($B9:$K12,\"7\")","v":0},{"$f":"COUNTIF($B9:$K12,\"6\")","v":0},{"$f":"COUNTIF($B9:$K12,\"5\")","v":0},{"$f":"COUNTIF($B9:$K12,\"4\")","v":0},{"$f":"COUNTIF($B9:$K12,\"3\")","v":0},{"$f":"COUNTIF($B9:$K12,\"2\")","v":0},{"$f":"COUNTIF($B9:$K12,\"1\")","v":0},null,{"$f":"COUNTIF($B9:$K12,\"M\")","v":0}]

{"sheet":"29","index":29,"n_rows":16,"n_cols":25,"rows_kept":16,"cut":false,"hidden":true,"merged":[[4,11,4,12],[5,1,5,2]]}
[null,null,{"$f":"Startliste!C1","v":"Qualifikation"},null,null,null,null,null,null,null,null,null,{"$f":"Startliste!C2","v":"Meisterschaft der Veteranen 2024"}]
[null,null,{"$f":"Startliste!C4","v":0},null,null,null,null,null,null,null,null,null,null,null,null,null,null,null,null,null,null,1]
[]
[]
["Name",{"$f":"Startliste!B44","v":0},null,null,null,"Vorname",{"$f":"Startliste!C44","v":0},null,null,"St.",{"$f":"Startliste!F44","v":0},"Start-Nr."]
["Jahrgang",{"$f":"Startliste!D44","v":0},null,null,null,"Sektion",{"$f":"Startliste!E44","v":0},null,null,"Kat.",{"$f":"Startliste!H44","v":0},null,{"$f":"Startliste!A44","v":29}]
[]
[null,1,2,3,4,5,6,7,8,9,10,null,"Total"]
["1 - 10",null,null,null,null,null,null,null,null,null,null,null,{"$f":"SUM(B9:K9)+Y9","v":0},null,{"$f":"IF(B9=\"M\",10)","v":false},{"$f":"IF(C9=\"M\",10)","v":false},false,false,false,false,false,false,false,false,{"$f":"SUM(O9:X9)","v":0}]
["11 - 20",null,null,null,null,null,null,null,null,null,null,10,{"$f":"SUM(B10:K10)+Y10","v":0},null,{"$f":"IF(B10=\"M\",10)","v":false},{"$f":"IF(C10=\"M\",10)","v":false},false,false,false,false,false,false,false,false,{"$f":"SUM(O10:X10)","v":0}]
["21 - 30",null,null,null,null,null,null,null,null,null,null,8,{"$f":"SUM(B11:K11)+Y11","v":0},null,{"$f":"IF(B11=\"M\",10)","v":false},{"$f":"IF(C11=\"M\",10)","v":false},false,false,false,false,false,false,false,false,{"$f":"SUM(O11:X11)","v":0}]
["21 - 40",null,null,null,null,null,null,null,null,null,null,8,{"$f":"SUM(B12:K12)+Y12","v":0},null,{"$f":"IF(B12=\"M\",10)","v":false},{"$f":"IF(C12=\"M\",10)","v":false},{"$f":"IF(D12=\"M\",10)","v":false},{"$f":"IF(E12=\"M\",10)","v":false},{"$f":"IF(F12=\"M\",10)","v":false},{"$f":"IF(G12=\"M\",10)","v":false},{"$f":"IF(H12=\"M\",10)","v":false},{"$f":"IF(I12=\"M\",10)","v":false},{"$f":"IF(J12=\"M\",10)","v":false},{"$f":"IF(K12=\"M\",10)","v":false},{"$f":"SUM(O12:X12)","v":0}]
[null,null,null,null,null,null,null,null,null,null,"Resultat",null,{"$f":"SUM(M9:M12)","v":0}]
[]
["Wert",10,9,8,7,6,5,4,3,2,1,null,"M"]
["Anzahl",{"$f":"COUNTIF($B9:$K12,\"10\")+M16","v":0},{"$f":"COUNTIF($B9:$K12,\"9\")","v":0},{"$f":"COUNTIF($B9:$K12,\"8\")","v":0},{"$f":"COUNTIF($B9:$K12,\"7\")","v":0},{"$f":"COUNTIF($B9:$K12,\"6\")","v":0},{"$f":"COUNTIF($B9:$K12,\"5\")","v":0},{"$f":"COUNTIF($B9:$K12,\"4\")","v":0},{"$f":"COUNTIF($B9:$K12,\"3\")","v":0},{"$f":"COUNTIF($B9:$K12,\"2\")","v":0},{"$f":"COUNTIF($B9:$K12,\"1\")","v":0},null,{"$f":"COUNTIF($B9:$K12,\"M\")","v":0}]

{"sheet":"30","index":30,"n_rows":16,"n_cols":25,"rows_kept":16,"cut":false,"hidden":true,"merged":[[4,11,4,12],[5,1,5,2]]}
[null,null,{"$f":"Startliste!C1","v":"Qualifikation"},null,null,null,null,null,null,null,null,null,{"$f":"Startliste!C2","v":"Meisterschaft der Veteranen 2024"}]
[null,null,{"$f":"Startliste!C4","v":0},null,null,null,null,null,null,null,null,null,null,null,null,null,null,null,null,null,null,1]
[]
[]
["Name",{"$f":"Startliste!B45","v":0},null,null,null,"Vorname",{"$f":"Startliste!C45","v":0},null,null,"St.",{"$f":"Startliste!F45","v":0},"Start-Nr."]
["Jahrgang",{"$f":"Startliste!D45","v":0},null,null,null,"Sektion",{"$f":"Startliste!E45","v":0},null,null,"Kat.",{"$f":"Startliste!H45","v":0},null,{"$f":"Startliste!A45","v":30}]
[]
[null,1,2,3,4,5,6,7,8,9,10,null,"Total"]
["1 - 10",null,null,null,null,null,null,null,null,null,null,null,{"$f":"SUM(B9:K9)+Y9","v":0},null,{"$f":"IF(B9=\"M\",10)","v":false},{"$f":"IF(C9=\"M\",10)","v":false},false,false,false,false,false,false,false,false,{"$f":"SUM(O9:X9)","v":0}]
["11 - 20",null,null,null,null,null,null,null,null,null,null,10,{"$f":"SUM(B10:K10)+Y10","v":0},null,{"$f":"IF(B10=\"M\",10)","v":false},{"$f":"IF(C10=\"M\",10)","v":false},false,false,false,false,false,false,false,false,{"$f":"SUM(O10:X10)","v":0}]
["21 - 30",null,null,null,null,null,null,null,null,null,null,8,{"$f":"SUM(B11:K11)+Y11","v":0},null,{"$f":"IF(B11=\"M\",10)","v":false},{"$f":"IF(C11=\"M\",10)","v":false},false,false,false,false,false,false,false,false,{"$f":"SUM(O11:X11)","v":0}]
["21 - 40",null,null,null,null,null,null,null,null,null,null,8,{"$f":"SUM(B12:K12)+Y12","v":0},null,{"$f":"IF(B12=\"M\",10)","v":false},{"$f":"IF(C12=\"M\",10)","v":false},{"$f":"IF(D12=\"M\",10)","v":false},{"$f":"IF(E12=\"M\",10)","v":false},{"$f":"IF(F12=\"M\",10)","v":false},{"$f":"IF(G12=\"M\",10)","v":false},{"$f":"IF(H12=\"M\",10)","v":false},{"$f":"IF(I12=\"M\",10)","v":false},{"$f":"IF(J12=\"M\",10)","v":false},{"$f":"IF(K12=\"M\",10)","v":false},{"$f":"SUM(O12:X12)","v":0}]
[null,null,null,null,null,null,null,null,null,null,"Resultat",null,{"$f":"SUM(M9:M12)","v":0}]
[]
["Wert",10,9,8,7,6,5,4,3,2,1,null,"M"]
["Anzahl",{"$f":"COUNTIF($B9:$K12,\"10\")+M16","v":0},{"$f":"COUNTIF($B9:$K12,\"9\")","v":0},{"$f":"COUNTIF($B9:$K12,\"8\")","v":0},{"$f":"COUNTIF($B9:$K12,\"7\")","v":0},{"$f":"COUNTIF($B9:$K12,\"6\")","v":0},{"$f":"COUNTIF($B9:$K12,\"5\")","v":0},{"$f":"COUNTIF($B9:$K12,\"4\")","v":0},{"$f":"COUNTIF($B9:$K12,\"3\")","v":0},{"$f":"COUNTIF($B9:$K12,\"2\")","v":0},{"$f":"COUNTIF($B9:$K12,\"1\")","v":0},null,{"$f":"COUNTIF($B9:$K12,\"M\")","v":0}]

{"sheet":"31","index":31,"n_rows":16,"n_cols":25,"rows_kept":16,"cut":false,"hidden":true,"merged":[[4,11,4,12],[5,1,5,2]]}
[null,null,{"$f":"Startliste!C1","v":"Qualifikation"},null,null,null,null,null,null,null,null,null,{"$f":"Startliste!C2","v":"Meisterschaft der Veteranen 2024"}]
[null,null,{"$f":"Startliste!C4","v":0},null,null,null,null,null,null,null,null,null,null,null,null,null,null,null,null,null,null,1]
[]
[]
["Name",{"$f":"Startliste!B46","v":0},null,null,null,"Vorname",{"$f":"Startliste!C46","v":0},null,null,"St.",{"$f":"Startliste!F46","v":0},"Start-Nr."]
["Jahrgang",{"$f":"Startliste!D46","v":0},null,null,null,"Sektion",{"$f":"Startliste!E46","v":0},null,null,"Kat.",{"$f":"Startliste!H46","v":0},null,{"$f":"Startliste!A46","v":31}]
[]
[null,1,2,3,4,5,6,7,8,9,10,null,"Total"]
["1 - 10",null,null,null,null,null,null,null,null,null,null,null,{"$f":"SUM(B9:K9)+Y9","v":0},null,{"$f":"IF(B9=\"M\",10)","v":false},{"$f":"IF(C9=\"M\",10)","v":false},false,false,false,false,false,false,false,false,{"$f":"SUM(O9:X9)","v":0}]
["11 - 20",null,null,null,null,null,null,null,null,null,null,10,{"$f":"SUM(B10:K10)+Y10","v":0},null,{"$f":"IF(B10=\"M\",10)","v":false},{"$f":"IF(C10=\"M\",10)","v":false},false,false,false,false,false,false,false,false,{"$f":"SUM(O10:X10)","v":0}]
["21 - 30",null,null,null,null,null,null,null,null,null,null,8,{"$f":"SUM(B11:K11)+Y11","v":0},null,{"$f":"IF(B11=\"M\",10)","v":false},{"$f":"IF(C11=\"M\",10)","v":false},false,false,false,false,false,false,false,false,{"$f":"SUM(O11:X11)","v":0}]
["21 - 40",null,null,null,null,null,null,null,null,null,null,8,{"$f":"SUM(B12:K12)+Y12","v":0},null,{"$f":"IF(B12=\"M\",10)","v":false},{"$f":"IF(C12=\"M\",10)","v":false},{"$f":"IF(D12=\"M\",10)","v":false},{"$f":"IF(E12=\"M\",10)","v":false},{"$f":"IF(F12=\"M\",10)","v":false},{"$f":"IF(G12=\"M\",10)","v":false},{"$f":"IF(H12=\"M\",10)","v":false},{"$f":"IF(I12=\"M\",10)","v":false},{"$f":"IF(J12=\"M\",10)","v":false},{"$f":"IF(K12=\"M\",10)","v":false},{"$f":"SUM(O12:X12)","v":0}]
[null,null,null,null,null,null,null,null,null,null,"Resultat",null,{"$f":"SUM(M9:M12)","v":0}]
[]
["Wert",10,9,8,7,6,5,4,3,2,1,null,"M"]
["Anzahl",{"$f":"COUNTIF($B9:$K12,\"10\")+M16","v":0},{"$f":"COUNTIF($B9:$K12,\"9\")","v":0},{"$f":"COUNTIF($B9:$K12,\"8\")","v":0},{"$f":"COUNTIF($B9:$K12,\"7\")","v":0},{"$f":"COUNTIF($B9:$K12,\"6\")","v":0},{"$f":"COUNTIF($B9:$K12,\"5\")","v":0},{"$f":"COUNTIF($B9:$K12,\"4\")","v":0},{"$f":"COUNTIF($B9:$K12,\"3\")","v":0},{"$f":"COUNTIF($B9:$K12,\"2\")","v":0},{"$f":"COUNTIF($B9:$K12,\"1\")","v":0},null,{"$f":"COUNTIF($B9:$K12,\"M\")","v":0}]

{"sheet":"32","index":32,"n_rows":16,"n_cols":25,"rows_kept":16,"cut":false,"hidden":true,"merged":[[4,11,4,12],[5,1,5,2]]}
[null,null,{"$f":"Startliste!C1","v":"Qualifikation"},null,null,null,null,null,null,null,null,null,{"$f":"Startliste!C2","v":"Meisterschaft der Veteranen 2024"}]
[null,null,{"$f":"Startliste!C4","v":0},null,null,null,null,null,null,null,null,null,null,null,null,null,null,null,null,null,null,1]
[]
[]
["Name",{"$f":"Startliste!B47","v":0},null,null,null,"Vorname",{"$f":"Startliste!C47","v":0},null,null,"St.",{"$f":"Startliste!F47","v":0},"Start-Nr."]
["Jahrgang",{"$f":"Startliste!D47","v":0},null,null,null,"Sektion",{"$f":"Startliste!E47","v":0},null,null,"Kat.",{"$f":"Startliste!H47","v":0},null,{"$f":"Startliste!A47","v":32}]
[]
[null,1,2,3,4,5,6,7,8,9,10,null,"Total"]
["1 - 10",null,null,null,null,null,null,null,null,null,null,null,{"$f":"SUM(B9:K9)+Y9","v":0},null,{"$f":"IF(B9=\"M\",10)","v":false},{"$f":"IF(C9=\"M\",10)","v":false},false,false,false,false,false,false,false,false,{"$f":"SUM(O9:X9)","v":0}]
["11 - 20",null,null,null,null,null,null,null,null,null,null,10,{"$f":"SUM(B10:K10)+Y10","v":0},null,{"$f":"IF(B10=\"M\",10)","v":false},{"$f":"IF(C10=\"M\",10)","v":false},false,false,false,false,false,false,false,false,{"$f":"SUM(O10:X10)","v":0}]
["21 - 30",null,null,null,null,null,null,null,null,null,null,8,{"$f":"SUM(B11:K11)+Y11","v":0},null,{"$f":"IF(B11=\"M\",10)","v":false},{"$f":"IF(C11=\"M\",10)","v":false},false,false,false,false,false,false,false,false,{"$f":"SUM(O11:X11)","v":0}]
["21 - 40",null,null,null,null,null,null,null,null,null,null,8,{"$f":"SUM(B12:K12)+Y12","v":0},null,{"$f":"IF(B12=\"M\",10)","v":false},{"$f":"IF(C12=\"M\",10)","v":false},{"$f":"IF(D12=\"M\",10)","v":false},{"$f":"IF(E12=\"M\",10)","v":false},{"$f":"IF(F12=\"M\",10)","v":false},{"$f":"IF(G12=\"M\",10)","v":false},{"$f":"IF(H12=\"M\",10)","v":false},{"$f":"IF(I12=\"M\",10)","v":false},{"$f":"IF(J12=\"M\",10)","v":false},{"$f":"IF(K12=\"M\",10)","v":false},{"$f":"SUM(O12:X12)","v":0}]
[null,null,null,null,null,null,null,null,null,null,"Resultat",null,{"$f":"SUM(M9:M12)","v":0}]
[]
["Wert",10,9,8,7,6,5,4,3,2,1,null,"M"]
["Anzahl",{"$f":"COUNTIF($B9:$K12,\"10\")+M16","v":0},{"$f":"COUNTIF($B9:$K12,\"9\")","v":0},{"$f":"COUNTIF($B9:$K12,\"8\")","v":0},{"$f":"COUNTIF($B9:$K12,\"7\")","v":0},{"$f":"COUNTIF($B9:$K12,\"6\")","v":0},{"$f":"COUNTIF($B9:$K12,\"5\")","v":0},{"$f":"COUNTIF($B9:$K12,\"4\")","v":0},{"$f":"COUNTIF($B9:$K12,\"3\")","v":0},{"$f":"COUNTIF($B9:$K12,\"2\")","v":0},{"$f":"COUNTIF($B9:$K12,\"1\")","v":0},null,{"$f":"COUNTIF($B9:$K12,\"M\")","v":0}]

{"sheet":"33","index":33,"n_rows":16,"n_cols":25,"rows_kept":16,"cut":false,"hidden":true,"merged":[[4,11,4,12],[5,1,5,2]]}
[null,null,{"$f":"Startliste!C1","v":"Qualifikation"},null,null,null,null,null,null,null,null,null,{"$f":"Startliste!C2","v":"Meisterschaft der Veteranen 2024"}]
[null,null,{"$f":"Startliste!C4","v":0},null,null,null,null,null,null,null,null,null,null,null,null,null,null,null,null,null,null,1]
[]
[]
["Name",{"$f":"Startliste!B48","v":0},null,null,null,"Vorname",{"$f":"Startliste!C48","v":0},null,null,"St.",{"$f":"Startliste!F48","v":0},"Start-Nr."]
["Jahrgang",{"$f":"Startliste!D48","v":0},null,null,null,"Sektion",{"$f":"Startliste!E48","v":0},null,null,"Kat.",{"$f":"Startliste!H48","v":0},null,{"$f":"Startliste!A48","v":33}]
[]
[null,1,2,3,4,5,6,7,8,9,10,null,"Total"]
["1 - 10",null,null,null,null,null,null,null,null,null,null,null,{"$f":"SUM(B9:K9)+Y9","v":0},null,{"$f":"IF(B9=\"M\",10)","v":false},{"$f":"IF(C9=\"M\",10)","v":false},false,false,false,false,false,false,false,false,{"$f":"SUM(O9:X9)","v":0}]
["11 - 20",null,null,null,null,null,null,null,null,null,null,10,{"$f":"SUM(B10:K10)+Y10","v":0},null,{"$f":"IF(B10=\"M\",10)","v":false},{"$f":"IF(C10=\"M\",10)","v":false},false,false,false,false,false,false,false,false,{"$f":"SUM(O10:X10)","v":0}]
["21 - 30",null,null,null,null,null,null,null,null,null,null,8,{"$f":"SUM(B11:K11)+Y11","v":0},null,{"$f":"IF(B11=\"M\",10)","v":false},{"$f":"IF(C11=\"M\",10)","v":false},false,false,false,false,false,false,false,false,{"$f":"SUM(O11:X11)","v":0}]
["21 - 40",null,null,null,null,null,null,null,null,null,null,8,{"$f":"SUM(B12:K12)+Y12","v":0},null,{"$f":"IF(B12=\"M\",10)","v":false},{"$f":"IF(C12=\"M\",10)","v":false},{"$f":"IF(D12=\"M\",10)","v":false},{"$f":"IF(E12=\"M\",10)","v":false},{"$f":"IF(F12=\"M\",10)","v":false},{"$f":"IF(G12=\"M\",10)","v":false},{"$f":"IF(H12=\"M\",10)","v":false},{"$f":"IF(I12=\"M\",10)","v":false},{"$f":"IF(J12=\"M\",10)","v":false},{"$f":"IF(K12=\"M\",10)","v":false},{"$f":"SUM(O12:X12)","v":0}]
[null,null,null,null,null,null,null,null,null,null,"Resultat",null,{"$f":"SUM(M9:M12)","v":0}]
[]
["Wert",10,9,8,7,6,5,4,3,2,1,null,"M"]
["Anzahl",{"$f":"COUNTIF($B9:$K12,\"10\")+M16","v":0},{"$f":"COUNTIF($B9:$K12,\"9\")","v":0},{"$f":"COUNTIF($B9:$K12,\"8\")","v":0},{"$f":"COUNTIF($B9:$K12,\"7\")","v":0},{"$f":"COUNTIF($B9:$K12,\"6\")","v":0},{"$f":"COUNTIF($B9:$K12,\"5\")","v":0},{"$f":"COUNTIF($B9:$K12,\"4\")","v":0},{"$f":"COUNTIF($B9:$K12,\"3\")","v":0},{"$f":"COUNTIF($B9:$K12,\"2\")","v":0},{"$f":"COUNTIF($B9:$K12,\"1\")","v":0},null,{"$f":"COUNTIF($B9:$K12,\"M\")","v":0}]

{"sheet":"34","index":34,"n_rows":16,"n_cols":25,"rows_kept":16,"cut":false,"hidden":true,"merged":[[4,11,4,12],[5,1,5,2]]}
[null,null,{"$f":"Startliste!C1","v":"Qualifikation"},null,null,null,null,null,null,null,null,null,{"$f":"Startliste!C2","v":"Meisterschaft der Veteranen 2024"}]
[null,null,{"$f":"Startliste!C4","v":0},null,null,null,null,null,null,null,null,null,null,null,null,null,null,null,null,null,null,1]
[]
[]
["Name",{"$f":"Startliste!B49","v":0},null,null,null,"Vorname",{"$f":"Startliste!C49","v":0},null,null,"St.",{"$f":"Startliste!F49","v":0},"Start-Nr."]
["Jahrgang",{"$f":"Startliste!D49","v":0},null,null,null,"Sektion",{"$f":"Startliste!E49","v":0},null,null,"Kat.",{"$f":"Startliste!H49","v":0},null,{"$f":"Startliste!A49","v":34}]
[]
[null,1,2,3,4,5,6,7,8,9,10,null,"Total"]
["1 - 10",null,null,null,null,null,null,null,null,null,null,null,{"$f":"SUM(B9:K9)+Y9","v":0},null,{"$f":"IF(B9=\"M\",10)","v":false},{"$f":"IF(C9=\"M\",10)","v":false},false,false,false,false,false,false,false,false,{"$f":"SUM(O9:X9)","v":0}]
["11 - 20",null,null,null,null,null,null,null,null,null,null,10,{"$f":"SUM(B10:K10)+Y10","v":0},null,{"$f":"IF(B10=\"M\",10)","v":false},{"$f":"IF(C10=\"M\",10)","v":false},false,false,false,false,false,false,false,false,{"$f":"SUM(O10:X10)","v":0}]
["21 - 30",null,null,null,null,null,null,null,null,null,null,8,{"$f":"SUM(B11:K11)+Y11","v":0},null,{"$f":"IF(B11=\"M\",10)","v":false},{"$f":"IF(C11=\"M\",10)","v":false},false,false,false,false,false,false,false,false,{"$f":"SUM(O11:X11)","v":0}]
["21 - 40",null,null,null,null,null,null,null,null,null,null,8,{"$f":"SUM(B12:K12)+Y12","v":0},null,{"$f":"IF(B12=\"M\",10)","v":false},{"$f":"IF(C12=\"M\",10)","v":false},{"$f":"IF(D12=\"M\",10)","v":false},{"$f":"IF(E12=\"M\",10)","v":false},{"$f":"IF(F12=\"M\",10)","v":false},{"$f":"IF(G12=\"M\",10)","v":false},{"$f":"IF(H12=\"M\",10)","v":false},{"$f":"IF(I12=\"M\",10)","v":false},{"$f":"IF(J12=\"M\",10)","v":false},{"$f":"IF(K12=\"M\",10)","v":false},{"$f":"SUM(O12:X12)","v":0}]
[null,null,null,null,null,null,null,null,null,null,"Resultat",null,{"$f":"SUM(M9:M12)","v":0}]
[]
["Wert",10,9,8,7,6,5,4,3,2,1,null,"M"]
["Anzahl",{"$f":"COUNTIF($B9:$K12,\"10\")+M16","v":0},{"$f":"COUNTIF($B9:$K12,\"9\")","v":0},{"$f":"COUNTIF($B9:$K12,\"8\")","v":0},{"$f":"COUNTIF($B9:$K12,\"7\")","v":0},{"$f":"COUNTIF($B9:$K12,\"6\")","v":0},{"$f":"COUNTIF($B9:$K12,\"5\")","v":0},{"$f":"COUNTIF($B9:$K12,\"4\")","v":0},{"$f":"COUNTIF($B9:$K12,\"3\")","v":0},{"$f":"COUNTIF($B9:$K12,\"2\")","v":0},{"$f":"COUNTIF($B9:$K12,\"1\")","v":0},null,{"$f":"COUNTIF($B9:$K12,\"M\")","v":0}]

{"sheet":"35","index":35,"n_rows":16,"n_cols":25,"rows_kept":16,"cut":false,"hidden":true,"merged":[[4,11,4,12],[5,1,5,2]]}
[null,null,{"$f":"Startliste!C1","v":"Qualifikation"},null,null,null,null,null,null,null,null,null,{"$f":"Startliste!C2","v":"Meisterschaft der Veteranen 2024"}]
[null,null,{"$f":"Startliste!C4","v":0},null,null,null,null,null,null,null,null,null,null,null,null,null,null,null,null,null,null,1]
[]
[]
["Name",{"$f":"Startliste!B50","v":0},null,null,null,"Vorname",{"$f":"Startliste!C50","v":0},null,null,"St.",{"$f":"Startliste!F50","v":0},"Start-Nr."]
["Jahrgang",{"$f":"Startliste!D50","v":0},null,null,null,"Sektion",{"$f":"Startliste!E50","v":0},null,null,"Kat.",{"$f":"Startliste!H50","v":0},null,{"$f":"Startliste!A50","v":35}]
[]
[null,1,2,3,4,5,6,7,8,9,10,null,"Total"]
["1 - 10",null,null,null,null,null,null,null,null,null,null,null,{"$f":"SUM(B9:K9)+Y9","v":0},null,{"$f":"IF(B9=\"M\",10)","v":false},{"$f":"IF(C9=\"M\",10)","v":false},false,false,false,false,false,false,false,false,{"$f":"SUM(O9:X9)","v":0}]
["11 - 20",null,null,null,null,null,null,null,null,null,null,10,{"$f":"SUM(B10:K10)+Y10","v":0},null,{"$f":"IF(B10=\"M\",10)","v":false},{"$f":"IF(C10=\"M\",10)","v":false},false,false,false,false,false,false,false,false,{"$f":"SUM(O10:X10)","v":0}]
["21 - 30",null,null,null,null,null,null,null,null,null,null,8,{"$f":"SUM(B11:K11)+Y11","v":0},null,{"$f":"IF(B11=\"M\",10)","v":false},{"$f":"IF(C11=\"M\",10)","v":false},false,false,false,false,false,false,false,false,{"$f":"SUM(O11:X11)","v":0}]
["21 - 40",null,null,null,null,null,null,null,null,null,null,8,{"$f":"SUM(B12:K12)+Y12","v":0},null,{"$f":"IF(B12=\"M\",10)","v":false},{"$f":"IF(C12=\"M\",10)","v":false},{"$f":"IF(D12=\"M\",10)","v":false},{"$f":"IF(E12=\"M\",10)","v":false},{"$f":"IF(F12=\"M\",10)","v":false},{"$f":"IF(G12=\"M\",10)","v":false},{"$f":"IF(H12=\"M\",10)","v":false},{"$f":"IF(I12=\"M\",10)","v":false},{"$f":"IF(J12=\"M\",10)","v":false},{"$f":"IF(K12=\"M\",10)","v":false},{"$f":"SUM(O12:X12)","v":0}]
[null,null,null,null,null,null,null,null,null,null,"Resultat",null,{"$f":"SUM(M9:M12)","v":0}]
[]
["Wert",10,9,8,7,6,5,4,3,2,1,null,"M"]
["Anzahl",{"$f":"COUNTIF($B9:$K12,\"10\")+M16","v":0},{"$f":"COUNTIF($B9:$K12,\"9\")","v":0},{"$f":"COUNTIF($B9:$K12,\"8\")","v":0},{"$f":"COUNTIF($B9:$K12,\"7\")","v":0},{"$f":"COUNTIF($B9:$K12,\"6\")","v":0},{"$f":"COUNTIF($B9:$K12,\"5\")","v":0},{"$f":"COUNTIF($B9:$K12,\"4\")","v":0},{"$f":"COUNTIF($B9:$K12,\"3\")","v":0},{"$f":"COUNTIF($B9:$K12,\"2\")","v":0},{"$f":"COUNTIF($B9:$K12,\"1\")","v":0},null,{"$f":"COUNTIF($B9:$K12,\"M\")","v":0}]

{"sheet":"36","index":36,"n_rows":16,"n_cols":25,"rows_kept":16,"cut":false,"hidden":true,"merged":[[4,11,4,12],[5,1,5,2]]}
[null,null,{"$f":"Startliste!C1","v":"Qualifikation"},null,null,null,null,null,null,null,null,null,{"$f":"Startliste!C2","v":"Meisterschaft der Veteranen 2024"}]
[null,null,{"$f":"Startliste!C4","v":0},null,null,null,null,null,null,null,null,null,null,null,null,null,null,null,null,null,null,1]
[]
[]
["Name",{"$f":"Startliste!B51","v":0},null,null,null,"Vorname",{"$f":"Startliste!C51","v":0},null,null,"St.",{"$f":"Startliste!F51","v":0},"Start-Nr."]
["Jahrgang",{"$f":"Startliste!D51","v":0},null,null,null,"Sektion",{"$f":"Startliste!E51","v":0},null,null,"Kat.",{"$f":"Startliste!H51","v":0},null,{"$f":"Startliste!A51","v":36}]
[]
[null,1,2,3,4,5,6,7,8,9,10,null,"Total"]
["1 - 10",null,null,null,null,null,null,null,null,null,null,null,{"$f":"SUM(B9:K9)+Y9","v":0},null,{"$f":"IF(B9=\"M\",10)","v":false},{"$f":"IF(C9=\"M\",10)","v":false},false,false,false,false,false,false,false,false,{"$f":"SUM(O9:X9)","v":0}]
["11 - 20",null,null,null,null,null,null,null,null,null,null,10,{"$f":"SUM(B10:K10)+Y10","v":0},null,{"$f":"IF(B10=\"M\",10)","v":false},{"$f":"IF(C10=\"M\",10)","v":false},false,false,false,false,false,false,false,false,{"$f":"SUM(O10:X10)","v":0}]
["21 - 30",null,null,null,null,null,null,null,null,null,null,8,{"$f":"SUM(B11:K11)+Y11","v":0},null,{"$f":"IF(B11=\"M\",10)","v":false},{"$f":"IF(C11=\"M\",10)","v":false},false,false,false,false,false,false,false,false,{"$f":"SUM(O11:X11)","v":0}]
["21 - 40",null,null,null,null,null,null,null,null,null,null,8,{"$f":"SUM(B12:K12)+Y12","v":0},null,{"$f":"IF(B12=\"M\",10)","v":false},{"$f":"IF(C12=\"M\",10)","v":false},{"$f":"IF(D12=\"M\",10)","v":false},{"$f":"IF(E12=\"M\",10)","v":false},{"$f":"IF(F12=\"M\",10)","v":false},{"$f":"IF(G12=\"M\",10)","v":false},{"$f":"IF(H12=\"M\",10)","v":false},{"$f":"IF(I12=\"M\",10)","v":false},{"$f":"IF(J12=\"M\",10)","v":false},{"$f":"IF(K12=\"M\",10)","v":false},{"$f":"SUM(O12:X12)","v":0}]
[null,null,null,null,null,null,null,null,null,null,"Resultat",null,{"$f":"SUM(M9:M12)","v":0}]
[]
["Wert",10,9,8,7,6,5,4,3,2,1,null,"M"]
["Anzahl",{"$f":"COUNTIF($B9:$K12,\"10\")+M16","v":0},{"$f":"COUNTIF($B9:$K12,\"9\")","v":0},{"$f":"COUNTIF($B9:$K12,\"8\")","v":0},{"$f":"COUNTIF($B9:$K12,\"7\")","v":0},{"$f":"COUNTIF($B9:$K12,\"6\")","v":0},{"$f":"COUNTIF($B9:$K12,\"5\")","v":0},{"$f":"COUNTIF($B9:$K12,\"4\")","v":0},{"$f":"COUNTIF($B9:$K12,\"3\")","v":0},{"$f":"COUNTIF($B9:$K12,\"2\")","v":0},{"$f":"COUNTIF($B9:$K12,\"1\")","v":0},null,{"$f":"COUNTIF($B9:$K12,\"M\")","v":0}]

{"sheet":"37","index":37,"n_rows":16,"n_cols":25,"rows_kept":16,"cut":false,"hidden":true,"merged":[[4,11,4,12],[5,1,5,2]]}
[null,null,{"$f":"Startliste!C1","v":"Qualifikation"},null,null,null,null,null,null,null,null,null,{"$f":"Startliste!C2","v":"Meisterschaft der Veteranen 2024"}]
[null,null,{"$f":"Startliste!C4","v":0},null,null,null,null,null,null,null,null,null,null,null,null,null,null,null,null,null,null,1]
[]
[]
["Name",{"$f":"Startliste!B52","v":0},null,null,null,"Vorname",{"$f":"Startliste!C52","v":0},null,null,"St.",{"$f":"Startliste!F52","v":0},"Start-Nr."]
["Jahrgang",{"$f":"Startliste!D52","v":0},null,null,null,"Sektion",{"$f":"Startliste!E52","v":0},null,null,"Kat.",{"$f":"Startliste!H52","v":0},null,{"$f":"Startliste!A52","v":37}]
[]
[null,1,2,3,4,5,6,7,8,9,10,null,"Total"]
["1 - 10",null,null,null,null,null,null,null,null,null,null,null,{"$f":"SUM(B9:K9)+Y9","v":0},null,{"$f":"IF(B9=\"M\",10)","v":false},{"$f":"IF(C9=\"M\",10)","v":false},false,false,false,false,false,false,false,false,{"$f":"SUM(O9:X9)","v":0}]
["11 - 20",null,null,null,null,null,null,null,null,null,null,10,{"$f":"SUM(B10:K10)+Y10","v":0},null,{"$f":"IF(B10=\"M\",10)","v":false},{"$f":"IF(C10=\"M\",10)","v":false},false,false,false,false,false,false,false,false,{"$f":"SUM(O10:X10)","v":0}]
["21 - 30",null,null,null,null,null,null,null,null,null,null,8,{"$f":"SUM(B11:K11)+Y11","v":0},null,{"$f":"IF(B11=\"M\",10)","v":false},{"$f":"IF(C11=\"M\",10)","v":false},false,false,false,false,false,false,false,false,{"$f":"SUM(O11:X11)","v":0}]
["21 - 40",null,null,null,null,null,null,null,null,null,null,8,{"$f":"SUM(B12:K12)+Y12","v":0},null,{"$f":"IF(B12=\"M\",10)","v":false},{"$f":"IF(C12=\"M\",10)","v":false},{"$f":"IF(D12=\"M\",10)","v":false},{"$f":"IF(E12=\"M\",10)","v":false},{"$f":"IF(F12=\"M\",10)","v":false},{"$f":"IF(G12=\"M\",10)","v":false},{"$f":"IF(H12=\"M\",10)","v":false},{"$f":"IF(I12=\"M\",10)","v":false},{"$f":"IF(J12=\"M\",10)","v":false},{"$f":"IF(K12=\"M\",10)","v":false},{"$f":"SUM(O12:X12)","v":0}]
[null,null,null,null,null,null,null,null,null,null,"Resultat",null,{"$f":"SUM(M9:M12)","v":0}]
[]
["Wert",10,9,8,7,6,5,4,3,2,1,null,"M"]
["Anzahl",{"$f":"COUNTIF($B9:$K12,\"10\")+M16","v":0},{"$f":"COUNTIF($B9:$K12,\"9\")","v":0},{"$f":"COUNTIF($B9:$K12,\"8\")","v":0},{"$f":"COUNTIF($B9:$K12,\"7\")","v":0},{"$f":"COUNTIF($B9:$K12,\"6\")","v":0},{"$f":"COUNTIF($B9:$K12,\"5\")","v":0},{"$f":"COUNTIF($B9:$K12,\"4\")","v":0},{"$f":"COUNTIF($B9:$K12,\"3\")","v":0},{"$f":"COUNTIF($B9:$K12,\"2\")","v":0},{"$f":"COUNTIF($B9:$K12,\"1\")","v":0},null,{"$f":"COUNTIF($B9:$K12,\"M\")","v":0}]

{"sheet":"38","index":38,"n_rows":16,"n_cols":25,"rows_kept":16,"cut":false,"hidden":true,"merged":[[4,11,4,12],[5,1,5,2]]}
[null,null,{"$f":"Startliste!C1","v":"Qualifikation"},null,null,null,null,null,null,null,null,null,{"$f":"Startliste!C2","v":"Meisterschaft der Veteranen 2024"}]
[null,null,{"$f":"Startliste!C4","v":0},null,null,null,null,null,null,null,null,null,null,null,null,null,null,null,null,null,null,1]
[]
[]
["Name",{"$f":"Startliste!B53","v":0},null,null,null,"Vorname",{"$f":"Startliste!C53","v":0},null,null,"St.",{"$f":"Startliste!F53","v":0},"Start-Nr."]
["Jahrgang",{"$f":"Startliste!D53","v":0},null,null,null,"Sektion",{"$f":"Startliste!E53","v":0},null,null,"Kat.",{"$f":"Startliste!H53","v":0},null,{"$f":"Startliste!A53","v":38}]
[]
[null,1,2,3,4,5,6,7,8,9,10,null,"Total"]
["1 - 10",null,null,null,null,null,null,null,null,null,null,null,{"$f":"SUM(B9:K9)+Y9","v":0},null,{"$f":"IF(B9=\"M\",10)","v":false},{"$f":"IF(C9=\"M\",10)","v":false},false,false,false,false,false,false,false,false,{"$f":"SUM(O9:X9)","v":0}]
["11 - 20",null,null,null,null,null,null,null,null,null,null,10,{"$f":"SUM(B10:K10)+Y10","v":0},null,{"$f":"IF(B10=\"M\",10)","v":false},{"$f":"IF(C10=\"M\",10)","v":false},false,false,false,false,false,false,false,false,{"$f":"SUM(O10:X10)","v":0}]
["21 - 30",null,null,null,null,null,null,null,null,null,null,8,{"$f":"SUM(B11:K11)+Y11","v":0},null,{"$f":"IF(B11=\"M\",10)","v":false},{"$f":"IF(C11=\"M\",10)","v":false},false,false,false,false,false,false,false,false,{"$f":"SUM(O11:X11)","v":0}]
["21 - 40",null,null,null,null,null,null,null,null,null,null,8,{"$f":"SUM(B12:K12)+Y12","v":0},null,{"$f":"IF(B12=\"M\",10)","v":false},{"$f":"IF(C12=\"M\",10)","v":false},{"$f":"IF(D12=\"M\",10)","v":false},{"$f":"IF(E12=\"M\",10)","v":false},{"$f":"IF(F12=\"M\",10)","v":false},{"$f":"IF(G12=\"M\",10)","v":false},{"$f":"IF(H12=\"M\",10)","v":false},{"$f":"IF(I12=\"M\",10)","v":false},{"$f":"IF(J12=\"M\",10)","v":false},{"$f":"IF(K12=\"M\",10)","v":false},{"$f":"SUM(O12:X12)","v":0}]
[null,null,null,null,null,null,null,null,null,null,"Resultat",null,{"$f":"SUM(M9:M12)","v":0}]
[]
["Wert",10,9,8,7,6,5,4,3,2,1,null,"M"]
["Anzahl",{"$f":"COUNTIF($B9:$K12,\"10\")+M16","v":0},{"$f":"COUNTIF($B9:$K12,\"9\")","v":0},{"$f":"COUNTIF($B9:$K12,\"8\")","v":0},{"$f":"COUNTIF($B9:$K12,\"7\")","v":0},{"$f":"COUNTIF($B9:$K12,\"6\")","v":0},{"$f":"COUNTIF($B9:$K12,\"5\")","v":0},{"$f":"COUNTIF($B9:$K12,\"4\")","v":0},{"$f":"COUNTIF($B9:$K12,\"3\")","v":0},{"$f":"COUNTIF($B9:$K12,\"2\")","v":0},{"$f":"COUNTIF($B9:$K12,\"1\")","v":0},null,{"$f":"COUNTIF($B9:$K12,\"M\")","v":0}]

{"sheet":"39","index":39,"n_rows":16,"n_cols":25,"rows_kept":16,"cut":false,"hidden":true,"merged":[[4,11,4,12],[5,1,5,2]]}
[null,null,{"$f":"Startliste!C1","v":"Qualifikation"},null,null,null,null,null,null,null,null,null,{"$f":"Startliste!C2","v":"Meisterschaft der Veteranen 2024"}]
[null,null,{"$f":"Startliste!C4","v":0},null,null,null,null,null,null,null,null,null,null,null,null,null,null,null,null,null,null,1]
[]
[]
["Name",{"$f":"Startliste!B54","v":0},null,null,null,"Vorname",{"$f":"Startliste!C54","v":0},null,null,"St.",{"$f":"Startliste!F54","v":0},"Start-Nr."]
["Jahrgang",{"$f":"Startliste!D54","v":0},null,null,null,"Sektion",{"$f":"Startliste!E54","v":0},null,null,"Kat.",{"$f":"Startliste!H54","v":0},null,{"$f":"Startliste!A54","v":39}]
[]
[null,1,2,3,4,5,6,7,8,9,10,null,"Total"]
["1 - 10",null,null,null,null,null,null,null,null,null,null,null,{"$f":"SUM(B9:K9)+Y9","v":0},null,{"$f":"IF(B9=\"M\",10)","v":false},{"$f":"IF(C9=\"M\",10)","v":false},false,false,false,false,false,false,false,false,{"$f":"SUM(O9:X9)","v":0}]
["11 - 20",null,null,null,null,null,null,null,null,null,null,10,{"$f":"SUM(B10:K10)+Y10","v":0},null,{"$f":"IF(B10=\"M\",10)","v":false},{"$f":"IF(C10=\"M\",10)","v":false},false,false,false,false,false,false,false,false,{"$f":"SUM(O10:X10)","v":0}]
["21 - 30",null,null,null,null,null,null,null,null,null,null,8,{"$f":"SUM(B11:K11)+Y11","v":0},null,{"$f":"IF(B11=\"M\",10)","v":false},{"$f":"IF(C11=\"M\",10)","v":false},false,false,false,false,false,false,false,false,{"$f":"SUM(O11:X11)","v":0}]
["21 - 40",null,null,null,null,null,null,null,null,null,null,8,{"$f":"SUM(B12:K12)+Y12","v":0},null,{"$f":"IF(B12=\"M\",10)","v":false},{"$f":"IF(C12=\"M\",10)","v":false},{"$f":"IF(D12=\"M\",10)","v":false},{"$f":"IF(E12=\"M\",10)","v":false},{"$f":"IF(F12=\"M\",10)","v":false},{"$f":"IF(G12=\"M\",10)","v":false},{"$f":"IF(H12=\"M\",10)","v":false},{"$f":"IF(I12=\"M\",10)","v":false},{"$f":"IF(J12=\"M\",10)","v":false},{"$f":"IF(K12=\"M\",10)","v":false},{"$f":"SUM(O12:X12)","v":0}]
[null,null,null,null,null,null,null,null,null,null,"Resultat",null,{"$f":"SUM(M9:M12)","v":0}]
[]
["Wert",10,9,8,7,6,5,4,3,2,1,null,"M"]
["Anzahl",{"$f":"COUNTIF($B9:$K12,\"10\")+M16","v":0},{"$f":"COUNTIF($B9:$K12,\"9\")","v":0},{"$f":"COUNTIF($B9:$K12,\"8\")","v":0},{"$f":"COUNTIF($B9:$K12,\"7\")","v":0},{"$f":"COUNTIF($B9:$K12,\"6\")","v":0},{"$f":"COUNTIF($B9:$K12,\"5\")","v":0},{"$f":"COUNTIF($B9:$K12,\"4\")","v":0},{"$f":"COUNTIF($B9:$K12,\"3\")","v":0},{"$f":"COUNTIF($B9:$K12,\"2\")","v":0},{"$f":"COUNTIF($B9:$K12,\"1\")","v":0},null,{"$f":"COUNTIF($B9:$K12,\"M\")","v":0}]

{"sheet":"40","index":40,"n_rows":16,"n_cols":25,"rows_kept":16,"cut":false,"hidden":true,"merged":[[4,11,4,12],[5,1,5,2]]}
[null,null,{"$f":"Startliste!C1","v":"Qualifikation"},null,null,null,null,null,null,null,null,null,{"$f":"Startliste!C2","v":"Meisterschaft der Veteranen 2024"}]
[null,null,{"$f":"Startliste!C4","v":0},null,null,null,null,null,null,null,null,null,null,null,null,null,null,null,null,null,null,1]
[]
[]
["Name",{"$f":"Startliste!B55","v":0},null,null,null,"Vorname",{"$f":"Startliste!C55","v":0},null,null,"St.",{"$f":"Startliste!F55","v":0},"Start-Nr."]
["Jahrgang",{"$f":"Startliste!D55","v":0},null,null,null,"Sektion",{"$f":"Startliste!E55","v":0},null,null,"Kat.",{"$f":"Startliste!H55","v":0},null,{"$f":"Startliste!A55","v":40}]
[]
[null,1,2,3,4,5,6,7,8,9,10,null,"Total"]
["1 - 10",null,null,null,null,null,null,null,null,null,null,null,{"$f":"SUM(B9:K9)+Y9","v":0},null,{"$f":"IF(B9=\"M\",10)","v":false},{"$f":"IF(C9=\"M\",10)","v":false},false,false,false,false,false,false,false,false,{"$f":"SUM(O9:X9)","v":0}]
["11 - 20",null,null,null,null,null,null,null,null,null,null,10,{"$f":"SUM(B10:K10)+Y10","v":0},null,{"$f":"IF(B10=\"M\",10)","v":false},{"$f":"IF(C10=\"M\",10)","v":false},false,false,false,false,false,false,false,false,{"$f":"SUM(O10:X10)","v":0}]
["21 - 30",null,null,null,null,null,null,null,null,null,null,8,{"$f":"SUM(B11:K11)+Y11","v":0},null,{"$f":"IF(B11=\"M\",10)","v":false},{"$f":"IF(C11=\"M\",10)","v":false},false,false,false,false,false,false,false,false,{"$f":"SUM(O11:X11)","v":0}]
["21 - 40",null,null,null,null,null,null,null,null,null,null,8,{"$f":"SUM(B12:K12)+Y12","v":0},null,{"$f":"IF(B12=\"M\",10)","v":false},{"$f":"IF(C12=\"M\",10)","v":false},{"$f":"IF(D12=\"M\",10)","v":false},{"$f":"IF(E12=\"M\",10)","v":false},{"$f":"IF(F12=\"M\",10)","v":false},{"$f":"IF(G12=\"M\",10)","v":false},{"$f":"IF(H12=\"M\",10)","v":false},{"$f":"IF(I12=\"M\",10)","v":false},{"$f":"IF(J12=\"M\",10)","v":false},{"$f":"IF(K12=\"M\",10)","v":false},{"$f":"SUM(O12:X12)","v":0}]
[null,null,null,null,null,null,null,null,null,null,"Resultat",null,{"$f":"SUM(M9:M12)","v":0}]
[]
["Wert",10,9,8,7,6,5,4,3,2,1,null,"M"]
["Anzahl",{"$f":"COUNTIF($B9:$K12,\"10\")+M16","v":0},{"$f":"COUNTIF($B9:$K12,\"9\")","v":0},{"$f":"COUNTIF($B9:$K12,\"8\")","v":0},{"$f":"COUNTIF($B9:$K12,\"7\")","v":0},{"$f":"COUNTIF($B9:$K12,\"6\")","v":0},{"$f":"COUNTIF($B9:$K12,\"5\")","v":0},{"$f":"COUNTIF($B9:$K12,\"4\")","v":0},{"$f":"COUNTIF($B9:$K12,\"3\")","v":0},{"$f":"COUNTIF($B9:$K12,\"2\")","v":0},{"$f":"COUNTIF($B9:$K12,\"1\")","v":0},null,{"$f":"COUNTIF($B9:$K12,\"M\")","v":0}]

{"sheet":"Resultate","index":41,"n_rows":45,"n_cols":25,"rows_kept":45,"cut":false,"hidden":false,"merged":[]}
[null,null,{"$f":"Startliste!C1","v":"Qualifikation"}]
[null,null,{"$f":"Startliste!C2","v":"Meisterschaft der Veteranen 2024"}]
[null,null,"Resultate alle Kategorien"]
[]
["Schütze-Nr.","Name","Vorname","Jahrgang","Sektion","St.","Kat.","Resultat",null,"Schuss\n1 - 10","Schuss\n11 - 20","Schuss\n21- 30","Schuss\n31 - 40",null,10,9,8,7,6,5,4,3,2,1,"M"]
[{"$f":"'1'!M$6","v":1},{"$f":"'1'!B$5","v":0},{"$f":"'1'!G$5","v":0},{"$f":"'1'!B$6","v":0},{"$f":"'1'!G$6","v":0},{"$f":"'1'!K$5","v":0},{"$f":"'1'!K$6","v":0},{"$f":"'1'!M$13","v":0},null,{"$f":"'1'!M$9","v":0},{"$f":"'1'!M$10","v":0},{"$f":"'1'!M$11","v":0},{"$f":"'1'!M$12","v":0},null,{"$f":"'1'!B$16","v":0},{"$f":"'1'!C$16","v":0},{"$f":"'1'!D$16","v":0},{"$f":"'1'!E$16","v":0},{"$f":"'1'!F$16","v":0},{"$f":"'1'!G$16","v":0},{"$f":"'1'!H$16","v":0},{"$f":"'1'!I$16","v":0},{"$f":"'1'!J$16","v":0},{"$f":"'1'!K$16","v":0},{"$f":"'1'!M$16","v":0}]
[{"$f":"'2'!M$6","v":2},{"$f":"'2'!B$5","v":0},{"$f":"'2'!G$5","v":0},{"$f":"'2'!B$6","v":0},{"$f":"'2'!G$6","v":0},{"$f":"'2'!K$5","v":0},{"$f":"'2'!K$6","v":0},{"$f":"'2'!M$13","v":0},null,{"$f":"'2'!M$9","v":0},{"$f":"'2'!M$10","v":0},{"$f":"'2'!M$11","v":0},{"$f":"'2'!M$12","v":0},null,{"$f":"'2'!B$16","v":0},{"$f":"'2'!C$16","v":0},{"$f":"'2'!D$16","v":0},{"$f":"'2'!E$16","v":0},{"$f":"'2'!F$16","v":0},{"$f":"'2'!G$16","v":0},{"$f":"'2'!H$16","v":0},{"$f":"'2'!I$16","v":0},{"$f":"'2'!J$16","v":0},{"$f":"'2'!K$16","v":0},{"$f":"'2'!M$16","v":0}]
[{"$f":"'3'!M$6","v":3},{"$f":"'3'!B$5","v":0},{"$f":"'3'!G$5","v":0},{"$f":"'3'!B$6","v":0},{"$f":"'3'!G$6","v":0},{"$f":"'3'!K$5","v":0},{"$f":"'3'!K$6","v":0},{"$f":"'3'!M$13","v":0},null,{"$f":"'3'!M$9","v":0},{"$f":"'3'!M$10","v":0},{"$f":"'3'!M$11","v":0},{"$f":"'3'!M$12","v":0},null,{"$f":"'3'!B$16","v":0},{"$f":"'3'!C$16","v":0},{"$f":"'3'!D$16","v":0},{"$f":"'3'!E$16","v":0},{"$f":"'3'!F$16","v":0},{"$f":"'3'!G$16","v":0},{"$f":"'3'!H$16","v":0},{"$f":"'3'!I$16","v":0},{"$f":"'3'!J$16","v":0},{"$f":"'3'!K$16","v":0},{"$f":"'3'!M$16","v":0}]
[{"$f":"'4'!M$6","v":4},{"$f":"'4'!B$5","v":0},{"$f":"'4'!G$5","v":0},{"$f":"'4'!B$6","v":0},{"$f":"'4'!G$6","v":0},{"$f":"'4'!K$5","v":0},{"$f":"'4'!K$6","v":0},{"$f":"'4'!M$13","v":0},null,{"$f":"'4'!M$9","v":0},{"$f":"'4'!M$10","v":0},{"$f":"'4'!M$11","v":0},{"$f":"'4'!M$12","v":0},null,{"$f":"'4'!B$16","v":0},{"$f":"'4'!C$16","v":0},{"$f":"'4'!D$16","v":0},{"$f":"'4'!E$16","v":0},{"$f":"'4'!F$16","v":0},{"$f":"'4'!G$16","v":0},{"$f":"'4'!H$16","v":0},{"$f":"'4'!I$16","v":0},{"$f":"'4'!J$16","v":0},{"$f":"'4'!K$16","v":0},{"$f":"'4'!M$16","v":0}]
[{"$f":"'5'!M$6","v":5},{"$f":"'5'!B$5","v":0},{"$f":"'5'!G$5","v":0},{"$f":"'5'!B$6","v":0},{"$f":"'5'!G$6","v":0},{"$f":"'5'!K$5","v":0},{"$f":"'5'!K$6","v":0},{"$f":"'5'!M$13","v":0},null,{"$f":"'5'!M$9","v":0},{"$f":"'5'!M$10","v":0},{"$f":"'5'!M$11","v":0},{"$f":"'5'!M$12","v":0},null,{"$f":"'5'!B$16","v":0},{"$f":"'5'!C$16","v":0},{"$f":"'5'!D$16","v":0},{"$f":"'5'!E$16","v":0},{"$f":"'5'!F$16","v":0},{"$f":"'5'!G$16","v":0},{"$f":"'5'!H$16","v":0},{"$f":"'5'!I$16","v":0},{"$f":"'5'!J$16","v":0},{"$f":"'5'!K$16","v":0},{"$f":"'5'!M$16","v":0}]
[{"$f":"'6'!M$6","v":6},{"$f":"'6'!B$5","v":0},{"$f":"'6'!G$5","v":0},{"$f":"'6'!B$6","v":0},{"$f":"'6'!G$6","v":0},{"$f":"'6'!K$5","v":0},{"$f":"'6'!K$6","v":0},{"$f":"'6'!M$13","v":0},null,{"$f":"'6'!M$9","v":0},{"$f":"'6'!M$10","v":0},{"$f":"'6'!M$11","v":0},{"$f":"'6'!M$12","v":0},null,{"$f":"'6'!B$16","v":0},{"$f":"'6'!C$16","v":0},{"$f":"'6'!D$16","v":0},{"$f":"'6'!E$16","v":0},{"$f":"'6'!F$16","v":0},{"$f":"'6'!G$16","v":0},{"$f":"'6'!H$16","v":0},{"$f":"'6'!I$16","v":0},{"$f":"'6'!J$16","v":0},{"$f":"'6'!K$16","v":0},{"$f":"'6'!M$16","v":0}]
[{"$f":"'7'!M$6","v":7},{"$f":"'7'!B$5","v":0},{"$f":"'7'!G$5","v":0},{"$f":"'7'!B$6","v":0},{"$f":"'7'!G$6","v":0},{"$f":"'7'!K$5","v":0},{"$f":"'7'!K$6","v":0},{"$f":"'7'!M$13","v":0},null,{"$f":"'7'!M$9","v":0},{"$f":"'7'!M$10","v":0},{"$f":"'7'!M$11","v":0},{"$f":"'7'!M$12","v":0},null,{"$f":"'7'!B$16","v":0},{"$f":"'7'!C$16","v":0},{"$f":"'7'!D$16","v":0},{"$f":"'7'!E$16","v":0},{"$f":"'7'!F$16","v":0},{"$f":"'7'!G$16","v":0},{"$f":"'7'!H$16","v":0},{"$f":"'7'!I$16","v":0},{"$f":"'7'!J$16","v":0},{"$f":"'7'!K$16","v":0},{"$f":"'7'!M$16","v":0}]
[{"$f":"'8'!M$6","v":8},{"$f":"'8'!B$5","v":0},{"$f":"'8'!G$5","v":0},{"$f":"'8'!B$6","v":0},{"$f":"'8'!G$6","v":0},{"$f":"'8'!K$5","v":0},{"$f":"'8'!K$6","v":0},{"$f":"'8'!M$13","v":0},null,{"$f":"'8'!M$9","v":0},{"$f":"'8'!M$10","v":0},{"$f":"'8'!M$11","v":0},{"$f":"'8'!M$12","v":0},null,{"$f":"'8'!B$16","v":0},{"$f":"'8'!C$16","v":0},{"$f":"'8'!D$16","v":0},{"$f":"'8'!E$16","v":0},{"$f":"'8'!F$16","v":0},{"$f":"'8'!G$16","v":0},{"$f":"'8'!H$16","v":0},{"$f":"'8'!I$16","v":0},{"$f":"'8'!J$16","v":0},{"$f":"'8'!K$16","v":0},{"$f":"'8'!M$16","v":0}]
[{"$f":"'9'!M$6","v":9},{"$f":"'9'!B$5","v":0},{"$f":"'9'!G$5","v":0},{"$f":"'9'!B$6","v":0},{"$f":"'9'!G$6","v":0},{"$f":"'9'!K$5","v":0},{"$f":"'9'!K$6","v":0},{"$f":"'9'!M$13","v":0},null,{"$f":"'9'!M$9","v":0},{"$f":"'9'!M$10","v":0},{"$f":"'9'!M$11","v":0},{"$f":"'9'!M$12","v":0},null,{"$f":"'9'!B$16","v":0},{"$f":"'9'!C$16","v":0},{"$f":"'9'!D$16","v":0},{"$f":"'9'!E$16","v":0},{"$f":"'9'!F$16","v":0},{"$f":"'9'!G$16","v":0},{"$f":"'9'!H$16","v":0},{"$f":"'9'!I$16","v":0},{"$f":"'9'!J$16","v":0},{"$f":"'9'!K$16","v":0},{"$f":"'9'!M$16","v":0}]
[{"$f":"'10'!M$6","v":10},{"$f":"'10'!B$5","v":0},{"$f":"'10'!G$5","v":0},{"$f":"'10'!B$6","v":0},{"$f":"'10'!G$6","v":0},{"$f":"'10'!K$5","v":0},{"$f":"'10'!K$6","v":0},{"$f":"'10'!M$13","v":0},null,{"$f":"'10'!M$9","v":0},{"$f":"'10'!M$10","v":0},{"$f":"'10'!M$11","v":0},{"$f":"'10'!M$12","v":0},null,{"$f":"'10'!B$16","v":0},{"$f":"'10'!C$16","v":0},{"$f":"'10'!D$16","v":0},{"$f":"'10'!E$16","v":0},{"$f":"'10'!F$16","v":0},{"$f":"'10'!G$16","v":0},{"$f":"'10'!H$16","v":0},{"$f":"'10'!I$16","v":0},{"$f":"'10'!J$16","v":0},{"$f":"'10'!K$16","v":0},{"$f":"'10'!M$16","v":0}]
[{"$f":"'11'!M$6","v":11},{"$f":"'11'!B$5","v":0},{"$f":"'11'!G$5","v":0},{"$f":"'11'!B$6","v":0},{"$f":"'11'!G$6","v":0},{"$f":"'11'!K$5","v":0},{"$f":"'11'!K$6","v":0},{"$f":"'11'!M$13","v":0},null,{"$f":"'11'!M$9","v":0},{"$f":"'11'!M$10","v":0},{"$f":"'11'!M$11","v":0},{"$f":"'11'!M$12","v":0},null,{"$f":"'11'!B$16","v":0},{"$f":"'11'!C$16","v":0},{"$f":"'11'!D$16","v":0},{"$f":"'11'!E$16","v":0},{"$f":"'11'!F$16","v":0},{"$f":"'11'!G$16","v":0},{"$f":"'11'!H$16","v":0},{"$f":"'11'!I$16","v":0},{"$f":"'11'!J$16","v":0},{"$f":"'11'!K$16","v":0},{"$f":"'11'!M$16","v":0}]
[{"$f":"'12'!M$6","v":12},{"$f":"'12'!B$5","v":0},{"$f":"'12'!G$5","v":0},{"$f":"'12'!B$6","v":0},{"$f":"'12'!G$6","v":0},{"$f":"'12'!K$5","v":0},{"$f":"'12'!K$6","v":0},{"$f":"'12'!M$13","v":0},null,{"$f":"'12'!M$9","v":0},{"$f":"'12'!M$10","v":0},{"$f":"'12'!M$11","v":0},{"$f":"'12'!M$12","v":0},null,{"$f":"'12'!B$16","v":0},{"$f":"'12'!C$16","v":0},{"$f":"'12'!D$16","v":0},{"$f":"'12'!E$16","v":0},{"$f":"'12'!F$16","v":0},{"$f":"'12'!G$16","v":0},{"$f":"'12'!H$16","v":0},{"$f":"'12'!I$16","v":0},{"$f":"'12'!J$16","v":0},{"$f":"'12'!K$16","v":0},{"$f":"'12'!M$16","v":0}]
[{"$f":"'13'!M$6","v":13},{"$f":"'13'!B$5","v":0},{"$f":"'13'!G$5","v":0},{"$f":"'13'!B$6","v":0},{"$f":"'13'!G$6","v":0},{"$f":"'13'!K$5","v":0},{"$f":"'13'!K$6","v":0},{"$f":"'13'!M$13","v":0},null,{"$f":"'13'!M$9","v":0},{"$f":"'13'!M$10","v":0},{"$f":"'13'!M$11","v":0},{"$f":"'13'!M$12","v":0},null,{"$f":"'13'!B$16","v":0},{"$f":"'13'!C$16","v":0},{"$f":"'13'!D$16","v":0},{"$f":"'13'!E$16","v":0},{"$f":"'13'!F$16","v":0},{"$f":"'13'!G$16","v":0},{"$f":"'13'!H$16","v":0},{"$f":"'13'!I$16","v":0},{"$f":"'13'!J$16","v":0},{"$f":"'13'!K$16","v":0},{"$f":"'13'!M$16","v":0}]
[{"$f":"'14'!M$6","v":14},{"$f":"'14'!B$5","v":0},{"$f":"'14'!G$5","v":0},{"$f":"'14'!B$6","v":0},{"$f":"'14'!G$6","v":0},{"$f":"'14'!K$5","v":0},{"$f":"'14'!K$6","v":0},{"$f":"'14'!M$13","v":0},null,{"$f":"'14'!M$9","v":0},{"$f":"'14'!M$10","v":0},{"$f":"'14'!M$11","v":0},{"$f":"'14'!M$12","v":0},null,{"$f":"'14'!B$16","v":0},{"$f":"'14'!C$16","v":0},{"$f":"'14'!D$16","v":0},{"$f":"'14'!E$16","v":0},{"$f":"'14'!F$16","v":0},{"$f":"'14'!G$16","v":0},{"$f":"'14'!H$16","v":0},{"$f":"'14'!I$16","v":0},{"$f":"'14'!J$16","v":0},{"$f":"'14'!K$16","v":0},{"$f":"'14'!M$16","v":0}]
[{"$f":"'15'!M$6","v":15},{"$f":"'15'!B$5","v":0},{"$f":"'15'!G$5","v":0},{"$f":"'15'!B$6","v":0},{"$f":"'15'!G$6","v":0},{"$f":"'15'!K$5","v":0},{"$f":"'15'!K$6","v":0},{"$f":"'15'!M$13","v":0},null,{"$f":"'15'!M$9","v":0},{"$f":"'15'!M$10","v":0},{"$f":"'15'!M$11","v":0},{"$f":"'15'!M$12","v":0},null,{"$f":"'15'!B$16","v":0},{"$f":"'15'!C$16","v":0},{"$f":"'15'!D$16","v":0},{"$f":"'15'!E$16","v":0},{"$f":"'15'!F$16","v":0},{"$f":"'15'!G$16","v":0},{"$f":"'15'!H$16","v":0},{"$f":"'15'!I$16","v":0},{"$f":"'15'!J$16","v":0},{"$f":"'15'!K$16","v":0},{"$f":"'15'!M$16","v":0}]
[{"$f":"'16'!M$6","v":16},{"$f":"'16'!B$5","v":0},{"$f":"'16'!G$5","v":0},{"$f":"'16'!B$6","v":0},{"$f":"'16'!G$6","v":0},{"$f":"'16'!K$5","v":0},{"$f":"'16'!K$6","v":0},{"$f":"'16'!M$13","v":0},null,{"$f":"'16'!M$9","v":0},{"$f":"'16'!M$10","v":0},{"$f":"'16'!M$11","v":0},{"$f":"'16'!M$12","v":0},null,{"$f":"'16'!B$16","v":0},{"$f":"'16'!C$16","v":0},{"$f":"'16'!D$16","v":0},{"$f":"'16'!E$16","v":0},{"$f":"'16'!F$16","v":0},{"$f":"'16'!G$16","v":0},{"$f":"'16'!H$16","v":0},{"$f":"'16'!I$16","v":0},{"$f":"'16'!J$16","v":0},{"$f":"'16'!K$16","v":0},{"$f":"'16'!M$16","v":0}]
[{"$f":"'17'!M$6","v":17},{"$f":"'17'!B$5","v":0},{"$f":"'17'!G$5","v":0},{"$f":"'17'!B$6","v":0},{"$f":"'17'!G$6","v":0},{"$f":"'17'!K$5","v":0},{"$f":"'17'!K$6","v":0},{"$f":"'17'!M$13","v":0},null,{"$f":"'17'!M$9","v":0},{"$f":"'17'!M$10","v":0},{"$f":"'17'!M$11","v":0},{"$f":"'17'!M$12","v":0},null,{"$f":"'17'!B$16","v":0},{"$f":"'17'!C$16","v":0},{"$f":"'17'!D$16","v":0},{"$f":"'17'!E$16","v":0},{"$f":"'17'!F$16","v":0},{"$f":"'17'!G$16","v":0},{"$f":"'17'!H$16","v":0},{"$f":"'17'!I$16","v":0},{"$f":"'17'!J$16","v":0},{"$f":"'17'!K$16","v":0},{"$f":"'17'!M$16","v":0}]
[{"$f":"'18'!M$6","v":18},{"$f":"'18'!B$5","v":0},{"$f":"'18'!G$5","v":0},{"$f":"'18'!B$6","v":0},{"$f":"'18'!G$6","v":0},{"$f":"'18'!K$5","v":0},{"$f":"'18'!K$6","v":0},{"$f":"'18'!M$13","v":0},null,{"$f":"'18'!M$9","v":0},{"$f":"'18'!M$10","v":0},{"$f":"'18'!M$11","v":0},{"$f":"'18'!M$12","v":0},null,{"$f":"'18'!B$16","v":0},{"$f":"'18'!C$16","v":0},{"$f":"'18'!D$16","v":0},{"$f":"'18'!E$16","v":0},{"$f":"'18'!F$16","v":0},{"$f":"'18'!G$16","v":0},{"$f":"'18'!H$16","v":0},{"$f":"'18'!I$16","v":0},{"$f":"'18'!J$16","v":0},{"$f":"'18'!K$16","v":0},{"$f":"'18'!M$16","v":0}]
[{"$f":"'19'!M$6","v":19},{"$f":"'19'!B$5","v":0},{"$f":"'19'!G$5","v":0},{"$f":"'19'!B$6","v":0},{"$f":"'19'!G$6","v":0},{"$f":"'19'!K$5","v":0},{"$f":"'19'!K$6","v":0},{"$f":"'19'!M$13","v":0},null,{"$f":"'19'!M$9","v":0},{"$f":"'19'!M$10","v":0},{"$f":"'19'!M$11","v":0},{"$f":"'19'!M$12","v":0},null,{"$f":"'19'!B$16","v":0},{"$f":"'19'!C$16","v":0},{"$f":"'19'!D$16","v":0},{"$f":"'19'!E$16","v":0},{"$f":"'19'!F$16","v":0},{"$f":"'19'!G$16","v":0},{"$f":"'19'!H$16","v":0},{"$f":"'19'!I$16","v":0},{"$f":"'19'!J$16","v":0},{"$f":"'19'!K$16","v":0},{"$f":"'19'!M$16","v":0}]
[{"$f":"'20'!M$6","v":20},{"$f":"'20'!B$5","v":0},{"$f":"'20'!G$5","v":0},{"$f":"'20'!B$6","v":0},{"$f":"'20'!G$6","v":0},{"$f":"'20'!K$5","v":0},{"$f":"'20'!K$6","v":0},{"$f":"'20'!M$13","v":0},null,{"$f":"'20'!M$9","v":0},{"$f":"'20'!M$10","v":0},{"$f":"'20'!M$11","v":0},{"$f":"'20'!M$12","v":0},null,{"$f":"'20'!B$16","v":0},{"$f":"'20'!C$16","v":0},{"$f":"'20'!D$16","v":0},{"$f":"'20'!E$16","v":0},{"$f":"'20'!F$16","v":0},{"$f":"'20'!G$16","v":0},{"$f":"'20'!H$16","v":0},{"$f":"'20'!I$16","v":0},{"$f":"'20'!J$16","v":0},{"$f":"'20'!K$16","v":0},{"$f":"'20'!M$16","v":0}]
[{"$f":"'21'!M$6","v":21},{"$f":"'21'!B$5","v":0},{"$f":"'21'!G$5","v":0},{"$f":"'21'!B$6","v":0},{"$f":"'21'!G$6","v":0},{"$f":"'21'!K$5","v":0},{"$f":"'21'!K$6","v":0},{"$f":"'21'!M$13","v":0},null,{"$f":"'21'!M$9","v":0},{"$f":"'21'!M$10","v":0},{"$f":"'21'!M$11","v":0},{"$f":"'21'!M$12","v":0},null,{"$f":"'21'!B$16","v":0},{"$f":"'21'!C$16","v":0},{"$f":"'21'!D$16","v":0},{"$f":"'21'!E$16","v":0},{"$f":"'21'!F$16","v":0},{"$f":"'21'!G$16","v":0},{"$f":"'21'!H$16","v":0},{"$f":"'21'!I$16","v":0},{"$f":"'21'!J$16","v":0},{"$f":"'21'!K$16","v":0},{"$f":"'21'!M$16","v":0}]
[{"$f":"'22'!M$6","v":22},{"$f":"'22'!B$5","v":0},{"$f":"'22'!G$5","v":0},{"$f":"'22'!B$6","v":0},{"$f":"'22'!G$6","v":0},{"$f":"'22'!K$5","v":0},{"$f":"'22'!K$6","v":0},{"$f":"'22'!M$13","v":0},null,{"$f":"'22'!M$9","v":0},{"$f":"'22'!M$10","v":0},{"$f":"'22'!M$11","v":0},{"$f":"'22'!M$12","v":0},null,{"$f":"'22'!B$16","v":0},{"$f":"'22'!C$16","v":0},{"$f":"'22'!D$16","v":0},{"$f":"'22'!E$16","v":0},{"$f":"'22'!F$16","v":0},{"$f":"'22'!G$16","v":0},{"$f":"'22'!H$16","v":0},{"$f":"'22'!I$16","v":0},{"$f":"'22'!J$16","v":0},{"$f":"'22'!K$16","v":0},{"$f":"'22'!M$16","v":0}]
[{"$f":"'23'!M$6","v":23},{"$f":"'23'!B$5","v":0},{"$f":"'23'!G$5","v":0},{"$f":"'23'!B$6","v":0},{"$f":"'23'!G$6","v":0},{"$f":"'23'!K$5","v":0},{"$f":"'23'!K$6","v":0},{"$f":"'23'!M$13","v":0},null,{"$f":"'23'!M$9","v":0},{"$f":"'23'!M$10","v":0},{"$f":"'23'!M$11","v":0},{"$f":"'23'!M$12","v":0},null,{"$f":"'23'!B$16","v":0},{"$f":"'23'!C$16","v":0},{"$f":"'23'!D$16","v":0},{"$f":"'23'!E$16","v":0},{"$f":"'23'!F$16","v":0},{"$f":"'23'!G$16","v":0},{"$f":"'23'!H$16","v":0},{"$f":"'23'!I$16","v":0},{"$f":"'23'!J$16","v":0},{"$f":"'23'!K$16","v":0},{"$f":"'23'!M$16","v":0}]
[{"$f":"'24'!M$6","v":24},{"$f":"'24'!B$5","v":0},{"$f":"'24'!G$5","v":0},{"$f":"'24'!B$6","v":0},{"$f":"'24'!G$6","v":0},{"$f":"'24'!K$5","v":0},{"$f":"'24'!K$6","v":0},{"$f":"'24'!M$13","v":0},null,{"$f":"'24'!M$9","v":0},{"$f":"'24'!M$10","v":0},{"$f":"'24'!M$11","v":0},{"$f":"'24'!M$12","v":0},null,{"$f":"'24'!B$16","v":0},{"$f":"'24'!C$16","v":0},{"$f":"'24'!D$16","v":0},{"$f":"'24'!E$16","v":0},{"$f":"'24'!F$16","v":0},{"$f":"'24'!G$16","v":0},{"$f":"'24'!H$16","v":0},{"$f":"'24'!I$16","v":0},{"$f":"'24'!J$16","v":0},{"$f":"'24'!K$16","v":0},{"$f":"'24'!M$16","v":0}]
[{"$f":"'25'!M$6","v":25},{"$f":"'25'!B$5","v":0},{"$f":"'25'!G$5","v":0},{"$f":"'25'!B$6","v":0},{"$f":"'25'!G$6","v":0},{"$f":"'25'!K$5","v":0},{"$f":"'25'!K$6","v":0},{"$f":"'25'!M$13","v":0},null,{"$f":"'25'!M$9","v":0},{"$f":"'25'!M$10","v":0},{"$f":"'25'!M$11","v":0},{"$f":"'25'!M$12","v":0},null,{"$f":"'25'!B$16","v":0},{"$f":"'25'!C$16","v":0},{"$f":"'25'!D$16","v":0},{"$f":"'25'!E$16","v":0},{"$f":"'25'!F$16","v":0},{"$f":"'25'!G$16","v":0},{"$f":"'25'!H$16","v":0},{"$f":"'25'!I$16","v":0},{"$f":"'25'!J$16","v":0},{"$f":"'25'!K$16","v":0},{"$f":"'25'!M$16","v":0}]
[{"$f":"'26'!M$6","v":26},{"$f":"'26'!B$5","v":0},{"$f":"'26'!G$5","v":0},{"$f":"'26'!B$6","v":0},{"$f":"'26'!G$6","v":0},{"$f":"'26'!K$5","v":0},{"$f":"'26'!K$6","v":0},{"$f":"'26'!M$13","v":0},null,{"$f":"'26'!M$9","v":0},{"$f":"'26'!M$10","v":0},{"$f":"'26'!M$11","v":0},{"$f":"'26'!M$12","v":0},null,{"$f":"'26'!B$16","v":0},{"$f":"'26'!C$16","v":0},{"$f":"'26'!D$16","v":0},{"$f":"'26'!E$16","v":0},{"$f":"'26'!F$16","v":0},{"$f":"'26'!G$16","v":0},{"$f":"'26'!H$16","v":0},{"$f":"'26'!I$16","v":0},{"$f":"'26'!J$16","v":0},{"$f":"'26'!K$16","v":0},{"$f":"'26'!M$16","v":0}]
[{"$f":"'27'!M$6","v":27},{"$f":"'27'!B$5","v":0},{"$f":"'27'!G$5","v":0},{"$f":"'27'!B$6","v":0},{"$f":"'27'!G$6","v":0},{"$f":"'27'!K$5","v":0},{"$f":"'27'!K$6","v":0},{"$f":"'27'!M$13","v":0},null,{"$f":"'27'!M$9","v":0},{"$f":"'27'!M$10","v":0},{"$f":"'27'!M$11","v":0},{"$f":"'27'!M$12","v":0},null,{"$f":"'27'!B$16","v":0},{"$f":"'27'!C$16","v":0},{"$f":"'27'!D$16","v":0},{"$f":"'27'!E$16","v":0},{"$f":"'27'!F$16","v":0},{"$f":"'27'!G$16","v":0},{"$f":"'27'!H$16","v":0},{"$f":"'27'!I$16","v":0},{"$f":"'27'!J$16","v":0},{"$f":"'27'!K$16","v":0},{"$f":"'27'!M$16","v":0}]
[{"$f":"'28'!M$6","v":28},{"$f":"'28'!B$5","v":0},{"$f":"'28'!G$5","v":0},{"$f":"'28'!B$6","v":0},{"$f":"'28'!G$6","v":0},{"$f":"'28'!K$5","v":0},{"$f":"'28'!K$6","v":0},{"$f":"'28'!M$13","v":0},null,{"$f":"'28'!M$9","v":0},{"$f":"'28'!M$10","v":0},{"$f":"'28'!M$11","v":0},{"$f":"'28'!M$12","v":0},null,{"$f":"'28'!B$16","v":0},{"$f":"'28'!C$16","v":0},{"$f":"'28'!D$16","v":0},{"$f":"'28'!E$16","v":0},{"$f":"'28'!F$16","v":0},{"$f":"'28'!G$16","v":0},{"$f":"'28'!H$16","v":0},{"$f":"'28'!I$16","v":0},{"$f":"'28'!J$16","v":0},{"$f":"'28'!K$16","v":0},{"$f":"'28'!M$16","v":0}]
[{"$f":"'29'!M$6","v":29},{"$f":"'29'!B$5","v":0},{"$f":"'29'!G$5","v":0},{"$f":"'29'!B$6","v":0},{"$f":"'29'!G$6","v":0},{"$f":"'29'!K$5","v":0},{"$f":"'29'!K$6","v":0},{"$f":"'29'!M$13","v":0},null,{"$f":"'29'!M$9","v":0},{"$f":"'29'!M$10","v":0},{"$f":"'29'!M$11","v":0},{"$f":"'29'!M$12","v":0},null,{"$f":"'29'!B$16","v":0},{"$f":"'29'!C$16","v":0},{"$f":"'29'!D$16","v":0},{"$f":"'29'!E$16","v":0},{"$f":"'29'!F$16","v":0},{"$f":"'29'!G$16","v":0},{"$f":"'29'!H$16","v":0},{"$f":"'29'!I$16","v":0},{"$f":"'29'!J$16","v":0},{"$f":"'29'!K$16","v":0},{"$f":"'29'!M$16","v":0}]
[{"$f":"'30'!M$6","v":30},{"$f":"'30'!B$5","v":0},{"$f":"'30'!G$5","v":0},{"$f":"'30'!B$6","v":0},{"$f":"'30'!G$6","v":0},{"$f":"'30'!K$5","v":0},{"$f":"'30'!K$6","v":0},{"$f":"'30'!M$13","v":0},null,{"$f":"'30'!M$9","v":0},{"$f":"'30'!M$10","v":0},{"$f":"'30'!M$11","v":0},{"$f":"'30'!M$12","v":0},null,{"$f":"'30'!B$16","v":0},{"$f":"'30'!C$16","v":0},{"$f":"'30'!D$16","v":0},{"$f":"'30'!E$16","v":0},{"$f":"'30'!F$16","v":0},{"$f":"'30'!G$16","v":0},{"$f":"'30'!H$16","v":0},{"$f":"'30'!I$16","v":0},{"$f":"'30'!J$16","v":0},{"$f":"'30'!K$16","v":0},{"$f":"'30'!M$16","v":0}]
[{"$f":"'31'!M$6","v":31},{"$f":"'31'!B$5","v":0},{"$f":"'31'!G$5","v":0},{"$f":"'31'!B$6","v":0},{"$f":"'31'!G$6","v":0},{"$f":"'31'!K$5","v":0},{"$f":"'31'!K$6","v":0},{"$f":"'31'!M$13","v":0},null,{"$f":"'31'!M$9","v":0},{"$f":"'31'!M$10","v":0},{"$f":"'31'!M$11","v":0},{"$f":"'31'!M$12","v":0},null,{"$f":"'31'!B$16","v":0},{"$f":"'31'!C$16","v":0},{"$f":"'31'!D$16","v":0},{"$f":"'31'!E$16","v":0},{"$f":"'31'!F$16","v":0},{"$f":"'31'!G$16","v":0},{"$f":"'31'!H$16","v":0},{"$f":"'31'!I$16","v":0},{"$f":"'31'!J$16","v":0},{"$f":"'31'!K$16","v":0},{"$f":"'31'!M$16","v":0}]
[{"$f":"'32'!M$6","v":32},{"$f":"'32'!B$5","v":0},{"$f":"'32'!G$5","v":0},{"$f":"'32'!B$6","v":0},{"$f":"'32'!G$6","v":0},{"$f":"'32'!K$5","v":0},{"$f":"'32'!K$6","v":0},{"$f":"'32'!M$13","v":0},null,{"$f":"'32'!M$9","v":0},{"$f":"'32'!M$10","v":0},{"$f":"'32'!M$11","v":0},{"$f":"'32'!M$12","v":0},null,{"$f":"'32'!B$16","v":0},{"$f":"'32'!C$16","v":0},{"$f":"'32'!D$16","v":0},{"$f":"'32'!E$16","v":0},{"$f":"'32'!F$16","v":0},{"$f":"'32'!G$16","v":0},{"$f":"'32'!H$16","v":0},{"$f":"'32'!I$16","v":0},{"$f":"'32'!J$16","v":0},{"$f":"'32'!K$16","v":0},{"$f":"'32'!M$16","v":0}]
[{"$f":"'33'!M$6","v":33},{"$f":"'33'!B$5","v":0},{"$f":"'33'!G$5","v":0},{"$f":"'33'!B$6","v":0},{"$f":"'33'!G$6","v":0},{"$f":"'33'!K$5","v":0},{"$f":"'33'!K$6","v":0},{"$f":"'33'!M$13","v":0},null,{"$f":"'33'!M$9","v":0},{"$f":"'33'!M$10","v":0},{"$f":"'33'!M$11","v":0},{"$f":"'33'!M$12","v":0},null,{"$f":"'33'!B$16","v":0},{"$f":"'33'!C$16","v":0},{"$f":"'33'!D$16","v":0},{"$f":"'33'!E$16","v":0},{"$f":"'33'!F$16","v":0},{"$f":"'33'!G$16","v":0},{"$f":"'33'!H$16","v":0},{"$f":"'33'!I$16","v":0},{"$f":"'33'!J$16","v":0},{"$f":"'33'!K$16","v":0},{"$f":"'33'!M$16","v":0}]
[{"$f":"'34'!M$6","v":34},{"$f":"'34'!B$5","v":0},{"$f":"'34'!G$5","v":0},{"$f":"'34'!B$6","v":0},{"$f":"'34'!G$6","v":0},{"$f":"'34'!K$5","v":0},{"$f":"'34'!K$6","v":0},{"$f":"'34'!M$13","v":0},null,{"$f":"'34'!M$9","v":0},{"$f":"'34'!M$10","v":0},{"$f":"'34'!M$11","v":0},{"$f":"'34'!M$12","v":0},null,{"$f":"'34'!B$16","v":0},{"$f":"'34'!C$16","v":0},{"$f":"'34'!D$16","v":0},{"$f":"'34'!E$16","v":0},{"$f":"'34'!F$16","v":0},{"$f":"'34'!G$16","v":0},{"$f":"'34'!H$16","v":0},{"$f":"'34'!I$16","v":0},{"$f":"'34'!J$16","v":0},{"$f":"'34'!K$16","v":0},{"$f":"'34'!M$16","v":0}]
[{"$f":"'35'!M$6","v":35},{"$f":"'35'!B$5","v":0},{"$f":"'35'!G$5","v":0},{"$f":"'35'!B$6","v":0},{"$f":"'35'!G$6","v":0},{"$f":"'35'!K$5","v":0},{"$f":"'35'!K$6","v":0},{"$f":"'35'!M$13","v":0},null,{"$f":"'35'!M$9","v":0},{"$f":"'35'!M$10","v":0},{"$f":"'35'!M$11","v":0},{"$f":"'35'!M$12","v":0},null,{"$f":"'35'!B$16","v":0},{"$f":"'35'!C$16","v":0},{"$f":"'35'!D$16","v":0},{"$f":"'35'!E$16","v":0},{"$f":"'35'!F$16","v":0},{"$f":"'35'!G$16","v":0},{"$f":"'35'!H$16","v":0},{"$f":"'35'!I$16","v":0},{"$f":"'35'!J$16","v":0},{"$f":"'35'!K$16","v":0},{"$f":"'35'!M$16","v":0}]
[{"$f":"'36'!M$6","v":36},{"$f":"'36'!B$5","v":0},{"$f":"'36'!G$5","v":0},{"$f":"'36'!B$6","v":0},{"$f":"'36'!G$6","v":0},{"$f":"'36'!K$5","v":0},{"$f":"'36'!K$6","v":0},{"$f":"'36'!M$13","v":0},null,{"$f":"'36'!M$9","v":0},{"$f":"'36'!M$10","v":0},{"$f":"'36'!M$11","v":0},{"$f":"'36'!M$12","v":0},null,{"$f":"'36'!B$16","v":0},{"$f":"'36'!C$16","v":0},{"$f":"'36'!D$16","v":0},{"$f":"'36'!E$16","v":0},{"$f":"'36'!F$16","v":0},{"$f":"'36'!G$16","v":0},{"$f":"'36'!H$16","v":0},{"$f":"'36'!I$16","v":0},{"$f":"'36'!J$16","v":0},{"$f":"'36'!K$16","v":0},{"$f":"'36'!M$16","v":0}]
[{"$f":"'37'!M$6","v":37},{"$f":"'37'!B$5","v":0},{"$f":"'37'!G$5","v":0},{"$f":"'37'!B$6","v":0},{"$f":"'37'!G$6","v":0},{"$f":"'37'!K$5","v":0},{"$f":"'37'!K$6","v":0},{"$f":"'37'!M$13","v":0},null,{"$f":"'37'!M$9","v":0},{"$f":"'37'!M$10","v":0},{"$f":"'37'!M$11","v":0},{"$f":"'37'!M$12","v":0},null,{"$f":"'37'!B$16","v":0},{"$f":"'37'!C$16","v":0},{"$f":"'37'!D$16","v":0},{"$f":"'37'!E$16","v":0},{"$f":"'37'!F$16","v":0},{"$f":"'37'!G$16","v":0},{"$f":"'37'!H$16","v":0},{"$f":"'37'!I$16","v":0},{"$f":"'37'!J$16","v":0},{"$f":"'37'!K$16","v":0},{"$f":"'37'!M$16","v":0}]
[{"$f":"'38'!M$6","v":38},{"$f":"'38'!B$5","v":0},{"$f":"'38'!G$5","v":0},{"$f":"'38'!B$6","v":0},{"$f":"'38'!G$6","v":0},{"$f":"'38'!K$5","v":0},{"$f":"'38'!K$6","v":0},{"$f":"'38'!M$13","v":0},null,{"$f":"'38'!M$9","v":0},{"$f":"'38'!M$10","v":0},{"$f":"'38'!M$11","v":0},{"$f":"'38'!M$12","v":0},null,{"$f":"'38'!B$16","v":0},{"$f":"'38'!C$16","v":0},{"$f":"'38'!D$16","v":0},{"$f":"'38'!E$16","v":0},{"$f":"'38'!F$16","v":0},{"$f":"'38'!G$16","v":0},{"$f":"'38'!H$16","v":0},{"$f":"'38'!I$16","v":0},{"$f":"'38'!J$16","v":0},{"$f":"'38'!K$16","v":0},{"$f":"'38'!M$16","v":0}]
[{"$f":"'39'!M$6","v":39},{"$f":"'39'!B$5","v":0},{"$f":"'39'!G$5","v":0},{"$f":"'39'!B$6","v":0},{"$f":"'39'!G$6","v":0},{"$f":"'39'!K$5","v":0},{"$f":"'39'!K$6","v":0},{"$f":"'39'!M$13","v":0},null,{"$f":"'39'!M$9","v":0},{"$f":"'39'!M$10","v":0},{"$f":"'39'!M$11","v":0},{"$f":"'39'!M$12","v":0},null,{"$f":"'39'!B$16","v":0},{"$f":"'39'!C$16","v":0},{"$f":"'39'!D$16","v":0},{"$f":"'39'!E$16","v":0},{"$f":"'39'!F$16","v":0},{"$f":"'39'!G$16","v":0},{"$f":"'39'!H$16","v":0},{"$f":"'39'!I$16","v":0},{"$f":"'39'!J$16","v":0},{"$f":"'39'!K$16","v":0},{"$f":"'39'!M$16","v":0}]
[{"$f":"'40'!M$6","v":40},{"$f":"'40'!B$5","v":0},{"$f":"'40'!G$5","v":0},{"$f":"'40'!B$6","v":0},{"$f":"'40'!G$6","v":0},{"$f":"'40'!K$5","v":0},{"$f":"'40'!K$6","v":0},{"$f":"'40'!M$13","v":0},null,{"$f":"'40'!M$9","v":0},{"$f":"'40'!M$10","v":0},{"$f":"'40'!M$11","v":0},{"$f":"'40'!M$12","v":0},null,{"$f":"'40'!B$16","v":0},{"$f":"'40'!C$16","v":0},{"$f":"'40'!D$16","v":0},{"$f":"'40'!E$16","v":0},{"$f":"'40'!F$16","v":0},{"$f":"'40'!G$16","v":0},{"$f":"'40'!H$16","v":0},{"$f":"'40'!I$16","v":0},{"$f":"'40'!J$16","v":0},{"$f":"'40'!K$16","v":0},{"$f":"'40'!M$16","v":0}]